BEGIN:VCALENDAR
VERSION:2.0
PRODID:-//ChamberMaster//Event Calendar 2.0//EN
METHOD:PUBLISH
X-PUBLISHED-TTL:P3D
REFRESH-INTERVAL:P3D
CALSCALE:GREGORIAN
BEGIN:VEVENT
DTSTART:20240224T210000Z
DTEND:20240225T000000Z
X-MICROSOFT-CDO-ALLDAYEVENT:FALSE
SUMMARY:"What We Love About San Pedro"
DESCRIPTION:All are invited to this Open House at the San Pedro Bay Historical Society's Muller House Museum.  Discover the memorable people and places of San Pedro through photo displays\, special artifacts from the society's archives\, and conversations with local authors and docents. Tea\, Coffee\, & Cookies.
X-ALT-DESC;FMTTYPE=text/html:<span style="font-size:16px\;"><span style="font-family:arial\;">All are invited to this Open House at the San Pedro Bay Historical Society&#39\;s Muller House Museum.&nbsp\;&nbsp\;<span style="color:#333333\;">Discover the memorable people and places of San Pedro through photo displays\, special artifacts from the society&#39\;s archives\, and conversations with local authors and docents. Tea\, Coffee\, &amp\; Cookies.</span><br />\n&nbsp\;</span></span><br />\n&nbsp\;
LOCATION:1542 S. Beacon Street San Pedro\, CA 90731
UID:e.2718.8590
SEQUENCE:3
DTSTAMP:20260422T164326Z
URL:https://www.sanpedrochamber.com/events/details/what-we-love-about-san-pedro-8590
END:VEVENT

END:VCALENDAR
