BEGIN:VCALENDAR
VERSION:2.0
PRODID:-//ChamberMaster//Event Calendar 2.0//EN
METHOD:PUBLISH
X-PUBLISHED-TTL:P3D
REFRESH-INTERVAL:P3D
CALSCALE:GREGORIAN
BEGIN:VEVENT
DTSTART:20260425T020000Z
DTEND:20260425T040000Z
X-MICROSOFT-CDO-ALLDAYEVENT:FALSE
SUMMARY:Whale and The Ale Comedy Show
DESCRIPTION:Whale and The Ale Comedy Night Get ready for a fun night out at The Whale & Ale Gastropub! Join us on April 24\, 2026 at 7:00 PM (Pacific Time) for some laughs\, great vibes\, and awesome company. Whether you're a comedy fan or just looking for a chill evening\, this is the place to be. Bring your friends and enjoy a laid-back night full of jokes and good times. See you there! Comedians from Netflix\, BET\, Prime Video 4/24 7pm Doors 730pm Show $10 Suggested Donation Use code FREE99 for free tix while available 327 W 7th St\, San Pedro\, California 90731 jahlikefunny.eventbrite.com
X-ALT-DESC;FMTTYPE=text/html:Whale and The Ale Comedy Night Get ready for a fun night out at The Whale &amp\; Ale Gastropub! Join us on April 24\, 2026 at 7:00 PM (Pacific Time) for some laughs\, great vibes\, and awesome company. Whether you&rsquo\;re a comedy fan or just looking for a chill evening\, this is the place to be. Bring your friends and enjoy a laid-back night full of jokes and good times. See you there! Comedians from Netflix\, BET\, Prime Video 4/24 7pm Doors 730pm Show $10 Suggested Donation Use code FREE99 for free tix while available 327 W 7th St\, San Pedro\, California 90731 jahlikefunny.eventbrite.com
LOCATION:327 W 7th St\, San Pedro\, California 90731
UID:e.2718.11280
SEQUENCE:3
DTSTAMP:20260424T092930Z
URL:https://www.sanpedrochamber.com/events/details/whale-and-the-ale-comedy-show-11280
END:VEVENT

END:VCALENDAR
