BEGIN:VCALENDAR
VERSION:2.0
PRODID:-//ChamberMaster//Event Calendar 2.0//EN
METHOD:PUBLISH
X-PUBLISHED-TTL:P3D
REFRESH-INTERVAL:P3D
CALSCALE:GREGORIAN
BEGIN:VEVENT
DTSTART:20240210T183000Z
DTEND:20240210T193000Z
X-MICROSOFT-CDO-ALLDAYEVENT:FALSE
SUMMARY:Valentine's Day Nature Club on Birds for Kids with the Palos Verdes Peninsula Land Conservancy
DESCRIPTION:Join us for a Valentine-bird-themed Nature Club. We'll do fun bird crafts including Valentine's Day cards and observe birds in their natural habitat! Ages 5 to 10 years.
X-ALT-DESC;FMTTYPE=text/html:Join us for a Valentine-bird-themed Nature Club. We&rsquo\;ll do fun bird crafts including Valentine&#39\;s Day cards and observe birds in their natural habitat! Ages 5 to 10 years.
LOCATION:White Point Nature Preserve 1600 W. Paseo del Mar San Pedro\, CA 90731
UID:e.2718.8657
SEQUENCE:3
DTSTAMP:20260422T165110Z
URL:https://www.sanpedrochamber.com/events/details/valentine-s-day-nature-club-on-birds-for-kids-with-the-palos-verdes-peninsula-land-conservancy-8657
END:VEVENT

END:VCALENDAR
