BEGIN:VCALENDAR
VERSION:2.0
PRODID:-//ChamberMaster//Event Calendar 2.0//EN
METHOD:PUBLISH
X-PUBLISHED-TTL:P3D
REFRESH-INTERVAL:P3D
CALSCALE:GREGORIAN
BEGIN:VEVENT
DTSTART:20240215T010000Z
DTEND:20240215T033000Z
X-MICROSOFT-CDO-ALLDAYEVENT:FALSE
SUMMARY:Valentine's Day Adventure Dining Sunset Sail
DESCRIPTION:Sail the harbor with your special someone as you enjoy the sunset together! \nJoin the Los Angeles Maritime Institute (LAMI) for an evening sail with a delicious dinner and desserts prepared by our Galley Chef. (Wine/beer is not included in our menu\, but you are welcome to bring your own.)\n\n\n\nTickets for this special sail are $100 each for adults\, $50 each for children 17 and under. Space is limited\, so don't wait! Learn more and purchase tickets at lamitopsail.org/events. Questions? Contact us at 310-833-6055 or info@lamitopsail.org.
X-ALT-DESC;FMTTYPE=text/html:<h2 style="font-style:italic\;"><em>Sail the harbor with your special someone as you enjoy the sunset together! </em></h2>\nJoin the Los Angeles Maritime Institute (LAMI) for an evening sail with a delicious dinner and desserts prepared by our Galley Chef.&nbsp\;<em>(Wine/beer is not included in our menu\, but you are welcome to bring your own.)</em><br />\n<br />\nTickets for this special sail are $100 each for adults\, $50 each for children 17 and under. Space is limited\, so don&#39\;t wait! Learn more and purchase tickets at&nbsp\;<a href="https://lamitopsail.org/events" style="color:rgb(17\, 85\, 204)\;" target="_blank">lamitopsail.org/events</a>.&nbsp\;Questions? Contact us at <a href="tel:310-833-6055">310-833-6055</a> or <a href="mailto:info@lamitopsail.org">info@lamitopsail.org</a>.
LOCATION:Park and board the ship at W. 6th St. and Harbor Blvd.\, San Pedro
UID:e.2718.8654
SEQUENCE:3
DTSTAMP:20260422T164338Z
URL:https://www.sanpedrochamber.com/events/details/valentine-s-day-adventure-dining-sunset-sail-8654
END:VEVENT

END:VCALENDAR
