BEGIN:VCALENDAR
VERSION:2.0
PRODID:-//ChamberMaster//Event Calendar 2.0//EN
METHOD:PUBLISH
X-PUBLISHED-TTL:P3D
REFRESH-INTERVAL:P3D
CALSCALE:GREGORIAN
BEGIN:VEVENT
DTSTART:20240421T030000Z
DTEND:20240421T053000Z
X-MICROSOFT-CDO-ALLDAYEVENT:FALSE
SUMMARY:Twanguero & Los Silverbacks
DESCRIPTION:Grammy-winning Spanish guitarist Diego Garcia returns to the Annex for a night of unbridled rhythm with members of his new collective: Adrian Buono & Jose Agote of the band Los Pinguos of Argentina and Jason Tamba & Mermans Mosengo of Afro Fiesta from the Democratic Republic of Congo. Inspired by world travels and artistic encounters\, this one-of-a-kind show is a spectacular mix of South American cumbia\, Congolese Rumba\, Flamenco\, and Garcia's own Latin Rockabilly twang. Pre-Concert Wine Tastings: Taste fine wines at select concerts. Free to Grand Vision members at the Friend\, Champion\, VIP Circle\, Arts Advocate\, and Performing Arts Patron level   up to two per household\, $16 per person for all others. Wine Tastings are led by professional sommelier\, Jean-Philippe Molinari. Concert tickets are required to participate. Members tasting tickets must be redeemed in advance.
X-ALT-DESC;FMTTYPE=text/html:Grammy-winning Spanish guitarist Diego Garcia returns to the Annex for a night of unbridled rhythm with members of his new collective: Adrian Buono &amp\; Jose Agote of the band Los Pinguos of Argentina and Jason Tamba &amp\; Mermans Mosengo of Afro Fiesta from the Democratic Republic of Congo. Inspired by world travels and artistic encounters\, this one-of-a-kind show is a spectacular mix of South American cumbia\, Congolese Rumba\, Flamenco\, and Garcia&rsquo\;s own Latin Rockabilly twang. Pre-Concert Wine Tastings: Taste fine wines at select concerts. Free to Grand Vision members at the Friend\, Champion\, VIP Circle\, Arts Advocate\, and Performing Arts Patron level &ndash\; up to two per household\, $16 per person for all others. Wine Tastings are led by professional sommelier\, Jean-Philippe Molinari. Concert tickets are required to participate. Members tasting tickets must be redeemed in advance.
LOCATION:The Grand Annex Music Hall 434 W. 6th Street San Pedro CA 90731
UID:e.2718.8602
SEQUENCE:3
DTSTAMP:20260422T125048Z
URL:https://www.sanpedrochamber.com/events/details/twanguero-los-silverbacks-8602
END:VEVENT

END:VCALENDAR
