BEGIN:VCALENDAR
VERSION:2.0
PRODID:-//ChamberMaster//Event Calendar 2.0//EN
METHOD:PUBLISH
X-PUBLISHED-TTL:P3D
REFRESH-INTERVAL:P3D
CALSCALE:GREGORIAN
BEGIN:VEVENT
DTSTART:20240211T000000Z
DTEND:20240211T023000Z
X-MICROSOFT-CDO-ALLDAYEVENT:FALSE
SUMMARY:Sweets For Your Sweetie Sunset Sail
DESCRIPTION:The perfect way to treat those special valentines in your life!\nJoin the Los Angeles Maritime Institute (LAMI) for an afternoon sail as you're treated to sweet and savory delights\, along with tea\, coffee\, and hot chocolate.\n\n\n\nTickets for this special sail are $75 each for adults\, $30 each for children 12 and under. Learn more and purchase tickets at lamitopsail.org/events. Questions? Contact us at 310-833-6055 or info@lamitopsail.org.
X-ALT-DESC;FMTTYPE=text/html:<h2 style="font-style:italic"><em>The perfect way to treat those special valentines in your life!</em></h2>\nJoin the Los Angeles Maritime Institute (LAMI)&nbsp\;for an afternoon sail as you&rsquo\;re treated to sweet and savory delights\, along with tea\, coffee\, and hot chocolate.<br />\n<br />\nTickets for this special sail are $75 each for adults\, $30 each for children 12 and under. Learn more and purchase tickets at&nbsp\;<a href="https://lamitopsail.org/events" style="color:rgb(17\, 85\, 204)\;" target="_blank">lamitopsail.org/events</a>.&nbsp\;Questions? Contact us at <a href="tel:310-833-6055">310-833-6055</a> or <a href="mailto:info@lamitopsail.org">info@lamitopsail.org</a>.
LOCATION:Park and board the ship at W. 6th St. and Harbor Blvd.\, San Pedro
UID:e.2718.8655
SEQUENCE:3
DTSTAMP:20260422T164113Z
URL:https://www.sanpedrochamber.com/events/details/sweets-for-your-sweetie-sunset-sail-8655
END:VEVENT

END:VCALENDAR
