BEGIN:VCALENDAR
VERSION:2.0
PRODID:-//ChamberMaster//Event Calendar 2.0//EN
METHOD:PUBLISH
X-PUBLISHED-TTL:P3D
REFRESH-INTERVAL:P3D
CALSCALE:GREGORIAN
BEGIN:VEVENT
DTSTART:20240121T000000Z
DTEND:20240121T023000Z
X-MICROSOFT-CDO-ALLDAYEVENT:FALSE
SUMMARY:Sunset Sail on the San Pedro Harbor
DESCRIPTION:Join the Los Angeles Maritime Institute (LAMI) for our first monthly Sunset Sail of 2024\, as you sail the San Pedro Bay and watch the sunset from the deck of a tall ship. You can sit back and relax or become part of the crew   your choice. Don't forget to bring a picnic to enjoy too (no glass bottles please).\n\n\n\nTickets for the January Sunset Sail are $60 for adults\, $30 for children 12 & under. Learn more and purchase your tickets at lamitopsail.org/events. Questions? Contact us at 310-833-6055 or info@lamitopsail.org.\n\n\n\nWe also hope you'll mark your calendar for two special Valentine's Day themed sails in February: Sweets For Your Sweetie Sunset Sail on Saturday\, February 10\, and Adventure Dining Sunset Sail on Wednesday\, February 14. More details on those coming soon!
X-ALT-DESC;FMTTYPE=text/html:Join the Los Angeles Maritime Institute (LAMI) for our first monthly Sunset Sail of 2024\, as you sail the San Pedro Bay and watch the sunset from the deck of a tall ship. You can sit back and relax or become part of the crew &ndash\; your choice. Don&rsquo\;t forget to bring a picnic to enjoy too (no glass bottles please).<br />\n<br />\nTickets for the January Sunset Sail are $60 for adults\, $30 for children 12 &amp\; under. Learn more and purchase your tickets at <a href="https://lamitopsail.org/events">lamitopsail.org/events</a>. Questions? Contact us at <a href="tel:310-833-6055">310-833-6055</a> or <a href="mailto:info@lamitopsail.org">info@lamitopsail.org</a>.<br />\n<br />\n<strong>We also hope you&#39\;ll mark your calendar for two special Valentine&#39\;s Day themed sails in February: </strong>Sweets For Your Sweetie Sunset Sail on Saturday\, February 10\, and Adventure Dining Sunset Sail on Wednesday\, February 14. More details on those coming soon!
LOCATION:Park and board the ship at W. 6th St. and Harbor Blvd.\, San Pedro
UID:e.2718.8585
SEQUENCE:3
DTSTAMP:20260422T230356Z
URL:https://www.sanpedrochamber.com/events/details/sunset-sail-on-the-san-pedro-harbor-8585
END:VEVENT

END:VCALENDAR
