BEGIN:VCALENDAR
VERSION:2.0
PRODID:-//ChamberMaster//Event Calendar 2.0//EN
METHOD:PUBLISH
X-PUBLISHED-TTL:P3D
REFRESH-INTERVAL:P3D
CALSCALE:GREGORIAN
BEGIN:VEVENT
DTSTART:20240421T230000Z
DTEND:20240422T013000Z
X-MICROSOFT-CDO-ALLDAYEVENT:FALSE
SUMMARY:Street Corner Renaissance
DESCRIPTION:With infectious energy\,?humor and delightful harmony\, Street Corner Renaissance sings a cappella versions of doo-wop and R&B music from days gone by. The quintet is led by NAACP award-winner Maurice Kitchen and joined recently by Bob Henley\, touring artist with the legendary Smokey Robinson. The quintet had the honor of performing with some of the biggest names in music\, including Chuck Berry\, Kool & the Gang and their childhood idols the Temptations. They even participated in NBC's The Sing Off in 2014 and were featured on the PBS special\, DooWop Generations. Members: Torrence Brannon Reese Charles "Sonny" Banks Anthony "Tony" Snead Bob Henley III Maurice Kitchen
X-ALT-DESC;FMTTYPE=text/html:With infectious energy\,?humor and delightful harmony\, Street Corner Renaissance sings a cappella versions of doo-wop and R&amp\;B music from days gone by. The quintet is led by NAACP award-winner Maurice Kitchen and joined recently by Bob Henley\, touring artist with the legendary Smokey Robinson. The quintet had the honor of performing with some of the biggest names in music\, including Chuck Berry\, Kool &amp\; the Gang and their childhood idols the Temptations. They even participated in NBC&rsquo\;s The Sing Off in 2014 and were featured on the PBS special\, DooWop Generations. Members: Torrence Brannon Reese Charles &ldquo\;Sonny&rdquo\; Banks Anthony &ldquo\;Tony&rdquo\; Snead Bob Henley III Maurice Kitchen
LOCATION:The Grand Annex Music Hall 434 W. 6th Street San Pedro CA 90731
UID:e.2718.8603
SEQUENCE:3
DTSTAMP:20260422T125218Z
URL:https://www.sanpedrochamber.com/events/details/street-corner-renaissance-8603
END:VEVENT

END:VCALENDAR
