BEGIN:VCALENDAR
VERSION:2.0
PRODID:-//ChamberMaster//Event Calendar 2.0//EN
METHOD:PUBLISH
X-PUBLISHED-TTL:P3D
REFRESH-INTERVAL:P3D
CALSCALE:GREGORIAN
BEGIN:VEVENT
DTSTART:20240512T160000Z
DTEND:20240512T190000Z
X-MICROSOFT-CDO-ALLDAYEVENT:FALSE
SUMMARY:Special Mother’s Day Outdoor Volunteer Day at White Point Nature Preserve with the Palos Verdes Peninsula Land Conservancy
DESCRIPTION:Join us at White Point Nature Preserve for a special Mother's Day event! Not only will we be cleaning seeds\, planting native plant species and/or removing invasive\, non-native plants to restore and improve critical habitat for wildlife at the preserve\, and beautify outdoor natural space for the community - but we will also have a fun\, family friendly craft/activity to celebrate moms and the mom-like figures in our lives! Sign up at pvplc.volunteerhub.com
X-ALT-DESC;FMTTYPE=text/html:Join us at White Point Nature Preserve for a special Mother&#39\;s Day event! Not only will we be cleaning seeds\, planting native plant species and/or removing invasive\, non-native plants to restore and improve critical habitat for wildlife at the preserve\, and beautify outdoor natural space for the community - but we will also have a fun\, family friendly craft/activity to celebrate moms and the mom-like figures in our lives! Sign up at pvplc.volunteerhub.com
LOCATION:White Point Nature Preserve 1600 W. Paseo del Mar San Pedro\, CA 90731
UID:e.2718.8755
SEQUENCE:3
DTSTAMP:20260422T202309Z
URL:https://www.sanpedrochamber.com/events/details/special-mother-s-day-outdoor-volunteer-day-at-white-point-nature-preserve-with-the-palos-verdes-peninsula-land-conservancy-8755
END:VEVENT

END:VCALENDAR
