BEGIN:VCALENDAR
VERSION:2.0
PRODID:-//ChamberMaster//Event Calendar 2.0//EN
METHOD:PUBLISH
X-PUBLISHED-TTL:P3D
REFRESH-INTERVAL:P3D
CALSCALE:GREGORIAN
BEGIN:VEVENT
DTSTART:20240303T210000Z
DTEND:20240304T000000Z
X-MICROSOFT-CDO-ALLDAYEVENT:FALSE
SUMMARY:San Pedro's Birthday Celebration at the Muller House Museum
DESCRIPTION:Celebrate San Pedro's 136th birthday at the Muller House Museum. Discover the town's memorable people and places through old photos\, rarely seen artifacts from the society's archives\, and in conversations with local authors and museum docents. For more information\, phone 310-548-3208.
X-ALT-DESC;FMTTYPE=text/html:Celebrate San Pedro&#39\;s 136th birthday at the Muller House Museum. Discover the town&#39\;s memorable people and places through old photos\, rarely seen artifacts from the society&rsquo\;s archives\, and in conversations with local authors and museum docents. For more information\, phone 310-548-3208.
LOCATION:Muller House Museum\, 1542 S. Beacon Street\, San Pedro\, CA 90731
UID:e.2718.8722
SEQUENCE:3
DTSTAMP:20260422T130614Z
URL:https://www.sanpedrochamber.com/events/details/san-pedro-s-birthday-celebration-at-the-muller-house-museum-8722
END:VEVENT

END:VCALENDAR
