BEGIN:VCALENDAR
VERSION:2.0
PRODID:-//ChamberMaster//Event Calendar 2.0//EN
METHOD:PUBLISH
X-PUBLISHED-TTL:P3D
REFRESH-INTERVAL:P3D
CALSCALE:GREGORIAN
BEGIN:VEVENT
DTSTART:20240907T220000Z
DTEND:20240908T010000Z
X-MICROSOFT-CDO-ALLDAYEVENT:FALSE
SUMMARY:San Pedro Bay Historical Society Wine and Beer Taste
DESCRIPTION:Enjoy a relaxing afternoon overlooking the waterfront sampling fine wines\, local craft beers\, and tasty hors d'oeuvres\, plus bidding on exciting Silent Auction items. Space is limited. Don't miss the fun!
X-ALT-DESC;FMTTYPE=text/html:Enjoy a relaxing afternoon overlooking the waterfront sampling fine wines\, local craft beers\, and tasty hors d&rsquo\;oeuvres\, plus bidding on exciting Silent Auction items. Space is limited. Don&rsquo\;t miss the fun!
LOCATION:Muller House Museum 1542 S. Beacon St.\, San Pedro
UID:e.2718.9055
SEQUENCE:3
DTSTAMP:20260420T124321Z
URL:https://www.sanpedrochamber.com/events/details/san-pedro-bay-historical-society-wine-and-beer-taste-09-07-2024-9055
END:VEVENT

END:VCALENDAR
