BEGIN:VCALENDAR
VERSION:2.0
PRODID:-//ChamberMaster//Event Calendar 2.0//EN
METHOD:PUBLISH
X-PUBLISHED-TTL:P3D
REFRESH-INTERVAL:P3D
CALSCALE:GREGORIAN
BEGIN:VEVENT
DTSTART:20240203T040000Z
DTEND:20240203T063000Z
X-MICROSOFT-CDO-ALLDAYEVENT:FALSE
SUMMARY:Renee Safier & Bob Malone
DESCRIPTION:Bob Malone and Renee Safier join forces for a night of classic jazz and blues standards. Renee is an award-winning versatile rock\, blues\, and jazz vocalist. Known best for her work with Andy Hill and their band Hard Rain\, Safier has played her guitar and sung her heart out to devoted folk-rock fans for decades. Bob Malone is known for his high-energy piano-playing hybrid of rock\, pop\, and blues. He's has toured with John Fogerty since 2011\, done session work with Ringo Starr and Avril Lavigne and has amassed his own a loyal fan-base through 25 years of touring and nine critically acclaimed albums. The New Yorker called Bob\, a "keyboard wizard" and in 2018\, his recording of "You're A Mean One\, Mr. Grinch" was featured in the trailer for the Illumination/Universal film\, The Grinch.
X-ALT-DESC;FMTTYPE=text/html:Bob Malone and Renee Safier join forces for a night of classic jazz and blues standards. Renee is an award-winning versatile rock\, blues\, and jazz vocalist. Known best for her work with Andy Hill and their band Hard Rain\, Safier has played her guitar and sung her heart out to devoted folk-rock fans for decades. Bob Malone is known for his high-energy piano-playing hybrid of rock\, pop\, and blues. He&rsquo\;s has toured with John Fogerty since 2011\, done session work with Ringo Starr and Avril Lavigne and has amassed his own a loyal fan-base through 25 years of touring and nine critically acclaimed albums. The New Yorker called Bob\, a &ldquo\;keyboard wizard&rdquo\; and in 2018\, his recording of &ldquo\;You&rsquo\;re A Mean One\, Mr. Grinch&rdquo\; was featured in the trailer for the Illumination/Universal film\, The Grinch.
LOCATION:The Grand Annex Music Hall 434 W. 6th Street San Pedro CA 90731
UID:e.2718.8592
SEQUENCE:3
DTSTAMP:20260422T162126Z
URL:https://www.sanpedrochamber.com/events/details/renee-safier-bob-malone-8592
END:VEVENT

END:VCALENDAR
