BEGIN:VCALENDAR
VERSION:2.0
PRODID:-//ChamberMaster//Event Calendar 2.0//EN
METHOD:PUBLISH
X-PUBLISHED-TTL:P3D
REFRESH-INTERVAL:P3D
CALSCALE:GREGORIAN
BEGIN:VEVENT
DTSTART:20240323T030000Z
DTEND:20240323T053000Z
X-MICROSOFT-CDO-ALLDAYEVENT:FALSE
SUMMARY:Reading of The People with the Trees in Their Chest
DESCRIPTION:A Staged Reading of an original play The People with The Trees in Their Chest by Shawn Christopher Lovell Nabors. Produced by Grand Vision Foundation. The audience will be invited to give constructive feedback after the performance. This activity is funded in part by the California Arts Council\, a state agency.
X-ALT-DESC;FMTTYPE=text/html:A Staged Reading of an original play The People with The Trees in Their Chest by Shawn Christopher Lovell Nabors. Produced by Grand Vision Foundation. The audience will be invited to give constructive feedback after the performance. This activity is funded in part by the California Arts Council\, a state agency.
LOCATION:The Grand Annex Music Hall 434 W. 6th Street San Pedro CA 90731
UID:e.2718.8596
SEQUENCE:3
DTSTAMP:20260422T145212Z
URL:https://www.sanpedrochamber.com/events/details/reading-of-the-people-with-the-trees-in-their-chest-8596
END:VEVENT

END:VCALENDAR
