BEGIN:VCALENDAR
VERSION:2.0
PRODID:-//ChamberMaster//Event Calendar 2.0//EN
METHOD:PUBLISH
X-PUBLISHED-TTL:P3D
REFRESH-INTERVAL:P3D
CALSCALE:GREGORIAN
BEGIN:VEVENT
DTSTART:20240124T193000Z
DTEND:20240124T210000Z
X-MICROSOFT-CDO-ALLDAYEVENT:FALSE
SUMMARY:Quality of LIfe Committee
DESCRIPTION:Mission of the Quality of Life Committee    \n\nThe Quality of Life Committee is a subcommittee of the Chamber and will focus on the specific interest of the business community to improve and ensure a high quality of life for San Pedro business owners\, customers\, visitors\, and residents living in and around our business districts.   The Chamber has established the committee to promote\, support\, and advocate the business community's interest in improving the conditions of local poverty\, joblessness\, shelter\, preventable illness (both physical and mental)\, and the related harms that they cause.  The QLC will most particularly focus on assessing and addressing homelessness and its impacts on the San Pedro community.
X-ALT-DESC;FMTTYPE=text/html:<br />\n<strong><span style="font-family:times new roman\,serif\;">Mission of the Quality of Life Committee&nbsp\;&nbsp\;&nbsp\; </span></strong><br />\n<span style="font-family:times new roman\,serif\;">The Quality of Life Committee is a subcommittee of the Chamber and will focus on the specific interest of the business community to improve and ensure a high quality of life for San Pedro business owners\, customers\, visitors\, and residents living in and around our business districts.&nbsp\;&nbsp\; The Chamber has established the committee to promote\, support\, and advocate the business community&#39\;s interest in improving the conditions of local poverty\, joblessness\, shelter\, preventable illness (both physical and mental)\, and the related harms that they cause.&nbsp\; The QLC will most particularly focus on assessing and addressing homelessness and its impacts on the San Pedro community.&nbsp\;&nbsp\;&nbsp\; </span>
LOCATION:The Committee meets the 4th Wednesday of month at 11:30 am at the Chamber office located at 390 W. 7th Street\, San Pedro. The committee is open only to appointed members.
UID:e.2718.8628
SEQUENCE:3
DTSTAMP:20260422T223244Z
URL:https://www.sanpedrochamber.com/events/details/quality-of-life-committee-8628
END:VEVENT

END:VCALENDAR
