BEGIN:VCALENDAR
VERSION:2.0
PRODID:-//ChamberMaster//Event Calendar 2.0//EN
METHOD:PUBLISH
X-PUBLISHED-TTL:P3D
REFRESH-INTERVAL:P3D
CALSCALE:GREGORIAN
BEGIN:VEVENT
DTSTART:20240309T230000Z
DTEND:20240310T010000Z
X-MICROSOFT-CDO-ALLDAYEVENT:FALSE
SUMMARY:Port Traits - Opening Reception
DESCRIPTION:Angels Gate Cultural Center (AGCC) presents Port Traits\, an exhibition featuring the work of Scott Brown and Slobodan Dimitrov. The show will open with a reception on Saturday\, March 9th\, from 3-5pm.\n\nPort Traits pays tribute to the work of late AGCC Studio Artists Scott Brown and Slobodan Dimitrov. The exhibition features a selection of paintings by Brown and his alias\, Butcher John Henry (a collaboration with artist Logan Fox)\, in addition to black and white film photographs by Dimitrov. With over 25 years of history at the Center\, Scott Brown and Slobodan Dimitrov will be remembered for their impact on the San Pedro community.\n\nGet more information and RSVP on Eventbrite: http://tinyurl.com/yhu9jhzf\n\nScott Brown was a painter\, photographer\, and storyteller who grew up in Southern California. Scott was an active member of the South Bay arts community\, participating regularly in the First Thursday art walk in Downtown San Pedro and other events around San Pedro and Palos Verdes. Brown's colorful and uniquely stylized paintings captured the people and places in his life around San Pedro and beyond. Paintings by Scott Brown and his collaborative alias\, Butcher John Henry\, will be on view in Port Traits.\n\n\n\nSlobodan Dimitrov was the unofficial photographer of the labor movement in the LA area for the past thirty years\, a crucial period in its history. He was born in former Yugoslavia (present-day Serbia) and spent several years in France as a child before emigrating to Los Angeles. He became an AGCC Studio Artist in 1984\, and he has spent much of his career documenting the labor movement in addition to San Pedro's history and local artists. Port Traits will feature several bodies work by Dimitrov from his black and white film photography practice.\n\nAGCC Gallery Hours: Thursday   Saturday\, 10am to 4pm\n\nPlease note that pets are not allowed inside our buildings. For questions\, please email annie@angelsgateart.org.\n\n\n\nThis exhibition is supported by Los Angeles County Department of Arts and Culture\, California Natural Resources Agency for the Museum Grant Program under the California Cultural and Historical Endowment\, and the Perenchio Foundation.\n\n\n\nAbout Angels Gate Cultural Center\n\nAngels Gate Cultural Center (AGCC) emerged from a group of San Pedro artists in the 1970s that created art studios and exhibition space within the WWII era army barracks of Angels Gate Park near the Port of Los Angeles. Today\, AGCC hosts over 50 artist studios in addition to a variety of programs to engage the diverse communities of the Los Angeles Harbor region\, including arts education in local schools\, community classes\, cultural events\, and exhibitions of contemporary art. More information about AGCC is available at angelsgateart.org.
X-ALT-DESC;FMTTYPE=text/html:<p><span style="font-size:14px"><strong>Angels Gate Cultural Center</strong> (AGCC)&nbsp\;presents&nbsp\;<strong><a href="https://angelsgateart.org/exhibitions/port-traits/" rel="nofollow" style="box-sizing: border-box\; margin: 20px 0px\; color: rgb(0\, 93\, 143)\; font-size: 1.125rem\; line-height: 26.4px\;" target="_blank"><em>Port Traits</em></a>\,</strong> an exhibition featuring the work of&nbsp\;<strong>Scott Brown</strong>&nbsp\;and&nbsp\;<strong>Slobodan Dimitrov</strong>. The show will open with a reception on Saturday\, March 9th\, from 3-5pm.</span></p>\n\n<p><span style="font-size:14px"><em>Port Traits</em>&nbsp\;pays tribute to the work of late AGCC Studio Artists Scott Brown and Slobodan Dimitrov. The exhibition features a selection of paintings by Brown and his alias\, Butcher John Henry (a collaboration with artist Logan Fox)\, in addition to black and white film photographs by Dimitrov. With over 25 years of history at the Center\, Scott Brown and Slobodan Dimitrov will be remembered for their impact on the San Pedro community.</span></p>\n\n<p><span style="font-size:14px">Get more information and RSVP on&nbsp\;<a href="https://tinyurl.com/yhu9jhzf" rel="nofollow" style="box-sizing: border-box\; margin: 20px 0px\; color: rgb(0\, 93\, 143)\; font-size: 1.125rem\; line-height: 26.4px\;" target="_blank">Eventbrite</a>:&nbsp\;<a href="https://tinyurl.com/yhu9jhzf" rel="nofollow" style="box-sizing: border-box\; margin: 20px 0px\; color: rgb(0\, 93\, 143)\; font-size: 1.125rem\; line-height: 26.4px\;" target="_blank">http://tinyurl.com/yhu9jhzf</a></span></p>\n\n<p><span style="font-size:14px"><strong>Scott Brown&nbsp\;</strong>was a painter\, photographer\, and storyteller who grew up in Southern California. Scott was an active member of the South Bay arts community\, participating regularly in the First Thursday art walk in Downtown San Pedro and other events around San Pedro and Palos Verdes. Brown&#39\;s colorful and uniquely stylized paintings captured the people and places in his life around San Pedro and beyond. Paintings by Scott Brown and his collaborative alias\, Butcher John Henry\, will be on view in Port Traits.<br />\n<br />\n<strong>Slobodan Dimitrov</strong>&nbsp\;was the unofficial photographer of the labor movement in the LA area for the past thirty years\, a crucial period in its history. He was born in former Yugoslavia (present-day Serbia) and spent several years in France as a child before emigrating to Los Angeles. He became an AGCC Studio Artist in 1984\, and he has spent much of his career documenting the labor movement in addition to San Pedro&#39\;s history and local artists. Port Traits will feature several bodies work by Dimitrov from his black and white film photography practice.</span></p>\n\n<p><strong><span style="font-size:14px">AGCC Gallery Hours: Thursday &mdash\; Saturday\, 10am to 4pm</span></strong></p>\n\n<p><span style="font-size:14px">Please note that pets are not allowed inside our buildings. For questions\, please email annie@angelsgateart.org.</span></p>\n\n<p><br />\n<span style="font-size:14px">This exhibition is supported by Los Angeles County Department of Arts and Culture\, California Natural Resources Agency for the Museum Grant Program under the California Cultural and Historical Endowment\, and the Perenchio Foundation.</span></p>\n\n<p><br />\n<span style="font-size:14px"><strong>About Angels Gate Cultural Center</strong><br />\nAngels Gate Cultural Center (AGCC) emerged from a group of San Pedro artists in the 1970s that created art studios and exhibition space within the WWII era army barracks of Angels Gate Park near the Port of Los Angeles. Today\, AGCC hosts over 50 artist studios in addition to a variety of programs to engage the diverse communities of the Los Angeles Harbor region\, including arts education in local schools\, community classes\, cultural events\, and exhibitions of contemporary art. More information about AGCC is available at&nbsp\;<a href="https://angelsgateart.org/?fbclid=IwAR0A2D0sNzB-K0GuE3gcA4aqa_1nmhbzGvsO-93vGka0WiLWDNO8dzerlxM" rel="nofollow" style="box-sizing: border-box\; margin: 20px 0px\; color: rgb(0\, 93\, 143)\; font-size: 1.125rem\; line-height: 26.4px\;" tabindex="0" target="_blank">angelsgateart.org.</a></span></p>\n
LOCATION:Angels Gate Cultural Center - Gallery\, Building A 3601 South Gaffey Street Los Angeles\, CA 90731
UID:e.2718.8679
SEQUENCE:3
DTSTAMP:20260422T144336Z
URL:https://www.sanpedrochamber.com/events/details/port-traits-opening-reception-8679
END:VEVENT

END:VCALENDAR
