BEGIN:VCALENDAR
VERSION:2.0
PRODID:-//ChamberMaster//Event Calendar 2.0//EN
METHOD:PUBLISH
X-PUBLISHED-TTL:P3D
REFRESH-INTERVAL:P3D
CALSCALE:GREGORIAN
BEGIN:VEVENT
DTSTART:20240424T010000Z
DTEND:20240424T020000Z
X-MICROSOFT-CDO-ALLDAYEVENT:FALSE
SUMMARY:Palos Verdes Peninsula Land Conservancy Virtual Bioblitz Training
DESCRIPTION:Join this virtual presentation to learn how you can be a community scientist collecting information about biodiversity for the upcoming City Nature Challenge April 26-April 29. No prior experience necessary\, all you need is a smartphone or a camera and a desire to get out on the trails to see what you can find. Sign up at pvplc.org/calendar
X-ALT-DESC;FMTTYPE=text/html:Join this virtual presentation to learn how you can be a community scientist collecting information about biodiversity for the upcoming City Nature Challenge April 26-April 29. No prior experience necessary\, all you need is a smartphone or a camera and a desire to get out on the trails to see what you can find. Sign up at pvplc.org/calendar
LOCATION:Virtual Presentation
UID:e.2718.8735
SEQUENCE:3
DTSTAMP:20260422T111732Z
URL:https://www.sanpedrochamber.com/events/details/palos-verdes-peninsula-land-conservancy-virtual-bioblitz-training-8735
END:VEVENT

END:VCALENDAR
