BEGIN:VCALENDAR
VERSION:2.0
PRODID:-//ChamberMaster//Event Calendar 2.0//EN
METHOD:PUBLISH
X-PUBLISHED-TTL:P3D
REFRESH-INTERVAL:P3D
CALSCALE:GREGORIAN
BEGIN:VEVENT
DTSTART:20250223T170000Z
DTEND:20250223T200000Z
X-MICROSOFT-CDO-ALLDAYEVENT:FALSE
SUMMARY:Palos Verdes Peninsula Land Conservancy Outdoor Volunteer Day at White Point Nature Preserve
DESCRIPTION:?Join us at White Point Nature Preserve! We will be working to maintain the preserve's restoration area of native plant species to improve critical habitat for wildlife at the preserve and beautify outdoor natural space for the community.? Sign up at?pvplc.volunteerhub.com
X-ALT-DESC;FMTTYPE=text/html:?Join us at White Point Nature Preserve! We will be working to maintain the preserve&#39\;s restoration area of native plant species to improve critical habitat for wildlife at the preserve and beautify outdoor natural space for the community.? Sign up at?pvplc.volunteerhub.com
LOCATION:White Point Nature Education Center 1600 W. Paseo del Mar San Pedro\, CA 90731
UID:e.2718.9555
SEQUENCE:3
DTSTAMP:20260422T181549Z
URL:https://www.sanpedrochamber.com/events/details/palos-verdes-peninsula-land-conservancy-outdoor-volunteer-day-at-white-point-nature-preserve-02-23-2025-9555
END:VEVENT

END:VCALENDAR
