BEGIN:VCALENDAR
VERSION:2.0
PRODID:-//ChamberMaster//Event Calendar 2.0//EN
METHOD:PUBLISH
X-PUBLISHED-TTL:P3D
REFRESH-INTERVAL:P3D
CALSCALE:GREGORIAN
BEGIN:VEVENT
DTSTART:20240420T160000Z
DTEND:20240420T190000Z
X-MICROSOFT-CDO-ALLDAYEVENT:FALSE
SUMMARY:Palos Verdes Peninsula Land Conservancy Earth Day Celebration and Volunteer Day at White Point Nature Preserve
DESCRIPTION:Celebrate Earth Day by helping to care for the Native Plant Demonstration Garden! Enjoy weeding & watering activities\, native plant seed preparation\, children's learning activities at the Nature Center\, a guided garden walk\, raffle prizes\, and more! Sign up at pvplc.volunteerhub.com
X-ALT-DESC;FMTTYPE=text/html:Celebrate Earth Day by helping to care for the Native Plant Demonstration Garden! Enjoy weeding &amp\; watering activities\, native plant seed preparation\, children&rsquo\;s learning activities at the Nature Center\, a guided garden walk\, raffle prizes\, and more! Sign up at pvplc.volunteerhub.com
LOCATION:White Point Nature Preserve 1600 W. Paseo del Mar San Pedro\, CA 90731
UID:e.2718.8734
SEQUENCE:3
DTSTAMP:20260422T130815Z
URL:https://www.sanpedrochamber.com/events/details/palos-verdes-peninsula-land-conservancy-earth-day-celebration-and-volunteer-day-at-white-point-nature-preserve-8734
END:VEVENT

END:VCALENDAR
