BEGIN:VCALENDAR
VERSION:2.0
PRODID:-//ChamberMaster//Event Calendar 2.0//EN
METHOD:PUBLISH
X-PUBLISHED-TTL:P3D
REFRESH-INTERVAL:P3D
CALSCALE:GREGORIAN
BEGIN:VEVENT
DTSTART:20240421T230000Z
DTEND:20240421T230000Z
X-MICROSOFT-CDO-ALLDAYEVENT:FALSE
SUMMARY:Palos Verdes Peninsula Land Conservancy Earth Day Beauty of Nature Film Presentation of Giants Rising
DESCRIPTION:Giants Rising is produced in partnership with the Redford Center and is narrated by musician Michael Franti. Meet passionate heroes dedicated to unraveling the mysteries of the redwoods and safeguarding their future. Filmgoers will see the superpower of redwoods revealed like never before. Location 1501 S Cabrillo Ave\, San Pedro. Tickets $10 online and $15 at the door. Visit: PVPLC.ORG/calendar
X-ALT-DESC;FMTTYPE=text/html:Giants Rising is produced in partnership with the Redford Center and is narrated by musician Michael Franti. Meet passionate heroes dedicated to unraveling the mysteries of the redwoods and safeguarding their future. Filmgoers will see the superpower of redwoods revealed like never before. Location 1501 S Cabrillo Ave\, San Pedro. Tickets $10 online and $15 at the door. Visit: PVPLC.ORG/calendar
LOCATION:Dana Middle School 1501 S. Cabrillo Ave San Pedro\, CA 90731
UID:e.2718.8733
SEQUENCE:3
DTSTAMP:20260422T132005Z
URL:https://www.sanpedrochamber.com/events/details/palos-verdes-peninsula-land-conservancy-earth-day-beauty-of-nature-film-presentation-of-giants-rising-8733
END:VEVENT

END:VCALENDAR
