BEGIN:VCALENDAR
VERSION:2.0
PRODID:-//ChamberMaster//Event Calendar 2.0//EN
METHOD:PUBLISH
X-PUBLISHED-TTL:P3D
REFRESH-INTERVAL:P3D
CALSCALE:GREGORIAN
BEGIN:VEVENT
DTSTART:20231210T170000Z
DTEND:20231210T200000Z
X-MICROSOFT-CDO-ALLDAYEVENT:FALSE
SUMMARY:Outdoor Volunteer Day at White Point Nature Preserve with the Palos Verdes Peninsula Land Conservancy
DESCRIPTION:Help care for the native plant demonstration garden at White Point Nature Preserve by planting native shrubs\, removing invasive weeds\, watering native plants\, grooming trails and more! Sign up at pvplc.volunteerhub.com
X-ALT-DESC;FMTTYPE=text/html:Help care for the native plant demonstration garden at White Point Nature Preserve by planting native shrubs\, removing invasive weeds\, watering native plants\, grooming trails and more! Sign up at pvplc.volunteerhub.com
LOCATION:White Point Nature Preserve 1600 W. Paseo del Mar San Pedro\, CA 90731
UID:e.2718.8545
SEQUENCE:3
DTSTAMP:20260423T025145Z
URL:https://www.sanpedrochamber.com/events/details/outdoor-volunteer-day-at-white-point-nature-preserve-with-the-palos-verdes-peninsula-land-conservancy-12-10-2023-8545
END:VEVENT

END:VCALENDAR
