BEGIN:VCALENDAR
VERSION:2.0
PRODID:-//ChamberMaster//Event Calendar 2.0//EN
METHOD:PUBLISH
X-PUBLISHED-TTL:P3D
REFRESH-INTERVAL:P3D
CALSCALE:GREGORIAN
BEGIN:VEVENT
DTSTART:20240427T210000Z
DTEND:20240427T230000Z
X-MICROSOFT-CDO-ALLDAYEVENT:FALSE
SUMMARY:Opening Reception: soundplay southbay
DESCRIPTION:Angels Gate Cultural Center (AGCC) presents soundplay   =   southbay\, the exhibition by FLOOD kicking off the soundpedro2024 season\, CHARIVARI.\n\nJoin us in the gallery during AGCC's Open Studios Day for the exhibition's opening reception on April 27th from 2-4pm.\n\nsoundplay   =   southbay provides both glimpse and glitch into 20 years of sound art within the context of Long Beach SoundWalk and soundpedro\, produced by the artist group FLOOD. Through installations\, videos\, and performance\, the exhibition will trace early SoundWalk events which began in 2004. Bridging time and underscoring the joint legacies of SoundWalk and soundpedro\, this exhibit traces events from 2004 to 2024 and considers the future.\n\nThe exhibition runs through June 1st\, 2024\, closing with the campus wide one-night event\, soundpedro2024 CHARIVARI.\n\nFLOOD produced the SoundWalk annually for ten years\, within a shifting footprint of urban streets\, sidewalks\, unexpected indoor spaces\, and alleys of downtown Long Beach. This evolved into soundpedro\, the more recent iteration of the sound art festival. From the one-night SoundWalk\, soundpedro has expanded into a season of sonic experiments and ear orientation\, both in-person and online. The signature on-site event takes place annually at Angels Gate Cultural Center in San Pedro\, where participants respond to and react within the wild\, varied landscape and complex history of the site.\n\n \n\nAGCC Gallery Hours\, starting April 27th: Thursday - Saturday\, 10am to 4pm.\n\nLearn more about soundpedro on their website: www.soundpedro.art\n\nLearn more about the exhibition at AGCC Gallery: angelsgateart.org\n\n \n\nPlease note that pets are not allowed inside our buildings. For questions\, please email annie@angelsgateart.org.\n\nImage courtesy of soundpedro: phog masheeen - duodenum\n\nsoundplay  =  southbay is generously supported by Department of Cultural Affairs City of Los Angeles\, California Natural Resources Agency for the Museum Grant Program under the California Cultural and Historical Endowment\, LA County Department of Arts and Culture\, and Best Start Wilmington.
X-ALT-DESC;FMTTYPE=text/html:<p><a href="https://angelsgateart.org/" rel="nofollow" style="box-sizing: inherit\; margin: 0px\; color: rgb(51\, 151\, 255)\; text-decoration-line: none\; outline: 0px !important\;" target="_blank">Angels Gate Cultural Center (AGCC)</a>&nbsp\;presents&nbsp\;<a href="https://angelsgateart.org/exhibitions/soundplay-south-bay/" rel="nofollow" style="color: rgb(51\, 151\, 255)\; box-sizing: inherit\; margin: 0px\; text-decoration-line: none\; outline: 0px !important\;" target="_blank">soundplay &lt\; = &gt\; southbay</a>\, the exhibition by&nbsp\;FLOOD&nbsp\;kicking off the&nbsp\;<a href="https://soundpedro.art/" rel="nofollow" style="box-sizing: inherit\; margin: 0px\; color: rgb(51\, 151\, 255)\; text-decoration-line: none\; outline: 0px !important\;" target="_blank">soundpedro2024</a>&nbsp\;season\,&nbsp\;CHARIVARI.</p>\n\n<p>Join us in the gallery during AGCC&#39\;s&nbsp\;<a href="https://angelsgateart.org/listing/open-studios-day-spring-2024/" rel="nofollow" style="box-sizing: inherit\; margin: 0px\; color: rgb(51\, 151\, 255)\; text-decoration-line: none\; outline: 0px !important\;" target="_blank">Open Studios Day</a>&nbsp\;for the exhibition&#39\;s opening reception on April 27th from 2-4pm.</p>\n\n<p><a href="https://angelsgateart.org/exhibitions/soundplay-south-bay/" rel="nofollow" style="box-sizing: inherit\; margin: 0px\; color: rgb(51\, 151\, 255)\; text-decoration-line: none\; outline: 0px !important\;" target="_blank">soundplay &lt\; = &gt\; southbay</a>&nbsp\;provides both glimpse and glitch into 20 years of sound art within the context of Long Beach SoundWalk and soundpedro\, produced by the artist group FLOOD. Through installations\, videos\, and performance\, the exhibition will trace early SoundWalk events which began in 2004. Bridging time and underscoring the joint legacies of SoundWalk and soundpedro\, this exhibit traces events from 2004 to 2024 and considers the future.</p>\n\n<p>The exhibition runs through June 1st\, 2024\, closing with the campus wide one-night event\, soundpedro2024 CHARIVARI.</p>\n\n<p>FLOOD produced the SoundWalk annually for ten years\, within a shifting footprint of urban streets\, sidewalks\, unexpected indoor spaces\, and alleys of downtown Long Beach. This evolved into soundpedro\, the more recent iteration of the sound art festival. From the one-night SoundWalk\, soundpedro has expanded into a season of sonic experiments and ear orientation\, both in-person and online. The signature on-site event takes place annually at Angels Gate Cultural Center in San Pedro\, where participants respond to and react within the wild\, varied landscape and complex history of the site.</p>\n\n<p>&nbsp\;</p>\n\n<p>AGCC Gallery Hours\, starting April 27th: Thursday - Saturday\, 10am to 4pm.</p>\n\n<p>Learn more about soundpedro on their website:&nbsp\;<a href="https://www.soundpedro.art/" rel="nofollow" style="box-sizing: inherit\; margin: 0px\; color: rgb(51\, 151\, 255)\; text-decoration-line: none\; outline: 0px !important\;" target="_blank">www.soundpedro.art</a><br />\nLearn more about the exhibition at AGCC Gallery:&nbsp\;<a href="https://angelsgateart.org/exhibitions/soundplay-south-bay/" rel="nofollow" style="box-sizing: inherit\; margin: 0px\; color: rgb(51\, 151\, 255)\; text-decoration-line: none\; outline: 0px !important\;" target="_blank">angelsgateart.org</a></p>\n\n<p>&nbsp\;</p>\n\n<p>Please note that pets are not allowed inside our buildings. For questions\, please email annie@angelsgateart.org.</p>\n\n<p>Image courtesy of soundpedro: phog masheeen - duodenum</p>\n\n<p><em>soundplay &lt\;=&gt\; southbay is generously supported by Department of Cultural Affairs City of Los Angeles\, California Natural Resources Agency for the Museum Grant Program under the California Cultural and Historical Endowment\, LA County Department of Arts and Culture\, and Best Start Wilmington.</em></p>\n
LOCATION:Angels Gate Cultural Center Gallery 3601 S Gaffey St\, San Pedro\, CA 90731
UID:e.2718.8746
SEQUENCE:3
DTSTAMP:20260422T111732Z
URL:https://www.sanpedrochamber.com/events/details/opening-reception-soundplay-southbay-8746
END:VEVENT

END:VCALENDAR
