BEGIN:VCALENDAR
VERSION:2.0
PRODID:-//ChamberMaster//Event Calendar 2.0//EN
METHOD:PUBLISH
X-PUBLISHED-TTL:P3D
REFRESH-INTERVAL:P3D
CALSCALE:GREGORIAN
BEGIN:VEVENT
DTSTART:20240209T030000Z
DTEND:20240209T050000Z
X-MICROSOFT-CDO-ALLDAYEVENT:FALSE
SUMMARY:Open Mic Night
DESCRIPTION:Musicians & Poets! Come on down to the Grand Annex on the second Thursday of each month for Open Mic Night! To perform: Sign up at 6:30pm. The first 12 sign-ups are guaranteed to perform\, with additional artists as time allows. Plan to do 2 songs/poems (limit stage time to under 8 minutes). This is an all ages show\, all ages and genres are welcome to perform. To keep the space welcoming for all ages\; please keep your act clean and appropriate for all ages. Avoid rants\, blue comedy and punching down. Microphones\, D.I. and keyboard available. You can use the aux cord to connect your smartphone if you will be performing with a backing track. The Aux cord is compatible with apple devices that use a lighting connector. Inappropriate acts will be removed from the stage and banned from future performances. Cover $5 cash\, $7.75 card. Cover charge includes one bar ticket for a beer/wine or soft drink & snack. All ages are welcome.
X-ALT-DESC;FMTTYPE=text/html:Musicians &amp\; Poets! Come on down to the Grand Annex on the second Thursday of each month for Open Mic Night! To perform: Sign up at 6:30pm. The first 12 sign-ups are guaranteed to perform\, with additional artists as time allows. Plan to do 2 songs/poems (limit stage time to under 8 minutes). This is an all ages show\, all ages and genres are welcome to perform. To keep the space welcoming for all ages\; please keep your act clean and appropriate for all ages. Avoid rants\, blue comedy and punching down. Microphones\, D.I. and keyboard available. You can use the aux cord to connect your smartphone if you will be performing with a backing track. The Aux cord is compatible with apple devices that use a lighting connector. Inappropriate acts will be removed from the stage and banned from future performances. Cover $5 cash\, $7.75 card. Cover charge includes one bar ticket for a beer/wine or soft drink &amp\; snack. All ages are welcome.
LOCATION:The Grand Annex Music Hall 434 W. 6th Street San Pedro CA 90731
UID:e.2718.8619
SEQUENCE:3
DTSTAMP:20260422T162059Z
URL:https://www.sanpedrochamber.com/events/details/open-mic-night-02-08-2024-8619
END:VEVENT

END:VCALENDAR
