BEGIN:VCALENDAR
VERSION:2.0
PRODID:-//ChamberMaster//Event Calendar 2.0//EN
METHOD:PUBLISH
X-PUBLISHED-TTL:P3D
REFRESH-INTERVAL:P3D
CALSCALE:GREGORIAN
BEGIN:VEVENT
DTSTART:20231104T200000Z
DTEND:20231104T220000Z
X-MICROSOFT-CDO-ALLDAYEVENT:FALSE
SUMMARY:November 2023 ArtLab - Shell Necklaces with Carla Marie Jewelry
DESCRIPTION:We are so excited for ArtLab at Marine Mammal Care Center this Saturday November 4th! \n\nWe will have artist Artist-Teacher Gloria Sanchez host a workshop to honor Native American Heritage Month! Artist-Teacher Gloria will guide participants in a dolphin painting workshop where your mammal friend will jump from sky to sea! (Our previously planned workshop with Carla Marie Jewelry will be rescheduled for a later date.)\n\n\n\nThis workshop explores the importance of the dolphin relative to the Tongva Nation - the first people of our land. \nReserve your spot and get more information about ArtLab on Eventbrite: https://tinyurl.com/mryy35re\n\n\n\nFree and fun for all\, kids and adults\, all ages welcome.
X-ALT-DESC;FMTTYPE=text/html:<p>We are so excited for <strong>ArtLab</strong> at&nbsp\;<strong>Marine Mammal Care Center</strong> this Saturday November 4th!&nbsp\;</p>\n\n<p>We will have artist Artist-Teacher <strong>Gloria Sanchez</strong> host a workshop to honor <strong>Native American Heritage Month</strong>! Artist-Teacher Gloria will guide participants in a <strong>dolphin painting workshop</strong> where your mammal friend will <strong>jump from sky to sea!</strong> (Our previously planned workshop with Carla Marie Jewelry will be rescheduled for a later date.)<br />\n<br />\nThis workshop explores the <strong>importance of the dolphin relative to the Tongva Nation</strong> - the first people of our land.&nbsp\;</p>\nReserve your spot and get more information about ArtLab on Eventbrite: https://tinyurl.com/mryy35re<br />\n<br />\nFree and fun for all\, kids and adults\, all ages welcome.
LOCATION:Marine Mammal Care Center 3601 S Gaffey St San Pedro\, CA
UID:e.2718.8536
SEQUENCE:3
DTSTAMP:20260420T082534Z
URL:https://www.sanpedrochamber.com/events/details/november-2023-artlab-shell-necklaces-with-carla-marie-jewelry-8536
END:VEVENT

END:VCALENDAR
