BEGIN:VCALENDAR
VERSION:2.0
PRODID:-//ChamberMaster//Event Calendar 2.0//EN
METHOD:PUBLISH
X-PUBLISHED-TTL:P3D
REFRESH-INTERVAL:P3D
CALSCALE:GREGORIAN
BEGIN:VEVENT
DTSTART:20240414T030000Z
DTEND:20240414T053000Z
X-MICROSOFT-CDO-ALLDAYEVENT:FALSE
SUMMARY:Nomad Eel Records Music Fest
DESCRIPTION:San Pedro's own Nomad Eel Records showcases a line-up of LA-based bands. Nomad Eel Records was born from the love of music and art. We are not bound to any one genre and have a more eclectic range of tastes. As much as life is a journey\, so is music and art. Come celebrate music and life with us! As our motto states where the music takes you! Festival Lineup Zig-Zags 10:30   1130 PM Imaad Wasif (solo acoustic set) 10:13   10:25 PM Dream Phases 9:25   10:10 PM Imaad Wasif (solo acoustic set) 9:08   9:20 PM The Blank Tapes 8:20   9:05 PM Imaad Wasif (solo acoustic set) 8:03   8:15 PM Livingmore 7:15   8:00 PM Gregg Garvey (solo acoustic set) 6:58   7:10 PM Supergloom 6:10   6:55 PM Gregg Garvey (solo acoustic set) 5:53   6:05 PM Young Creatures 5:05   5:50 PM Gregg Garvey (solo acoustic set) 4:48   5:00 PM RJ Bloke 4:00   4:45 PM
X-ALT-DESC;FMTTYPE=text/html:San Pedro&rsquo\;s own Nomad Eel Records showcases a line-up of LA-based bands. Nomad Eel Records was born from the love of music and art. We are not bound to any one genre and have a more eclectic range of tastes. As much as life is a journey\, so is music and art. Come celebrate music and life with us! As our motto states&hellip\;where the music takes you! Festival Lineup Zig-Zags 10:30 &ndash\; 1130 PM Imaad Wasif (solo acoustic set) 10:13 &ndash\; 10:25 PM Dream Phases 9:25 &ndash\; 10:10 PM Imaad Wasif (solo acoustic set) 9:08 &ndash\; 9:20 PM The Blank Tapes 8:20 &ndash\; 9:05 PM Imaad Wasif (solo acoustic set) 8:03 &ndash\; 8:15 PM Livingmore 7:15 &ndash\; 8:00 PM Gregg Garvey (solo acoustic set) 6:58 &ndash\; 7:10 PM Supergloom 6:10 &ndash\; 6:55 PM Gregg Garvey (solo acoustic set) 5:53 &ndash\; 6:05 PM Young Creatures 5:05 &ndash\; 5:50 PM Gregg Garvey (solo acoustic set) 4:48 &ndash\; 5:00 PM RJ Bloke 4:00 &ndash\; 4:45 PM
LOCATION:The Grand Annex Music Hall 434 W. 6th Street San Pedro CA 90731
UID:e.2718.8601
SEQUENCE:3
DTSTAMP:20260422T125217Z
URL:https://www.sanpedrochamber.com/events/details/nomad-eel-records-music-fest-8601
END:VEVENT

END:VCALENDAR
