BEGIN:VCALENDAR
VERSION:2.0
PRODID:-//ChamberMaster//Event Calendar 2.0//EN
METHOD:PUBLISH
X-PUBLISHED-TTL:P3D
REFRESH-INTERVAL:P3D
CALSCALE:GREGORIAN
BEGIN:VEVENT
DTSTART:20240511T173000Z
DTEND:20240512T063000Z
X-MICROSOFT-CDO-ALLDAYEVENT:FALSE
SUMMARY:Nature Club for Kids – Rocks & Fossils with the Palos Verdes Peninsula Land Conservancy
DESCRIPTION:Join us at White Point Nature Education Center from 10:30-11:30am for a rocks and fossils themed Nature Club! We'll learn about being a geologist and paleontologist while doing fun activities and crafts. This event is free and suitable for ages 5-10.
X-ALT-DESC;FMTTYPE=text/html:Join us at White Point Nature Education Center from 10:30-11:30am for a rocks and fossils themed Nature Club! We&#39\;ll learn about being a geologist and paleontologist while doing fun activities and crafts. This event is free and suitable for ages 5-10.
LOCATION:White Point Nature Preserve 1600 W. Paseo del Mar San Pedro\, CA 90731
UID:e.2718.8752
SEQUENCE:3
DTSTAMP:20260422T181507Z
URL:https://www.sanpedrochamber.com/events/details/nature-club-for-kids-rocks-fossils-with-the-palos-verdes-peninsula-land-conservancy-8752
END:VEVENT

END:VCALENDAR
