BEGIN:VCALENDAR
VERSION:2.0
PRODID:-//ChamberMaster//Event Calendar 2.0//EN
METHOD:PUBLISH
X-PUBLISHED-TTL:P3D
REFRESH-INTERVAL:P3D
CALSCALE:GREGORIAN
BEGIN:VEVENT
DTSTART:20240427T173000Z
DTEND:20240427T190000Z
X-MICROSOFT-CDO-ALLDAYEVENT:FALSE
SUMMARY:Native Plant Sale by the Palos Verdes Peninsula Land Conservancy
DESCRIPTION:Join us Saturday\, April 27th at White Point Nature Education Center located at 1600 Paseo del Mar\, San Pedro 10:30am   12pm for another chance to get native plants.
X-ALT-DESC;FMTTYPE=text/html:Join us Saturday\, April 27th at White Point Nature Education Center located at 1600 Paseo del Mar\, San Pedro 10:30am &ndash\; 12pm for another chance to get native plants.
LOCATION:White Point Nature Education Center 1600 W. Paseo del Mar San Pedro\, CA 90731
UID:e.2718.8738
SEQUENCE:3
DTSTAMP:20260422T130703Z
URL:https://www.sanpedrochamber.com/events/details/native-plant-sale-by-the-palos-verdes-peninsula-land-conservancy-04-27-2024-8738
END:VEVENT

END:VCALENDAR
