BEGIN:VCALENDAR
VERSION:2.0
PRODID:-//ChamberMaster//Event Calendar 2.0//EN
METHOD:PUBLISH
X-PUBLISHED-TTL:P3D
REFRESH-INTERVAL:P3D
CALSCALE:GREGORIAN
BEGIN:VEVENT
DTSTART:20240513T000000Z
DTEND:20240513T023000Z
X-MICROSOFT-CDO-ALLDAYEVENT:FALSE
SUMMARY:Mother's Day Sunset Sail
DESCRIPTION:Join the Los Angeles Maritime Institute (LAMI) to sail the San Pedro Bay on Mother's Day and watch the sunset from the deck of a tall ship. You can sit back and relax or become part of the crew   your choice - and don't forget a picnic!\n\n\n\nTickets are $60 for adults\, $30 for children 12 & under. Learn more and buy tickets at lamitopsail.org/may-sunset-sail.\n\n\n\nPlease note: The Sunset Sails board from the West Harbor Promenade at W. 6th St. and Harbor Blvd.\, San Pedro. Please see important parking details at lamitopsail.org/may-sunset-sail.
X-ALT-DESC;FMTTYPE=text/html:<p><span style="font-size:12px"><span style="font-family:arial\,helvetica\,sans-serif">Join the Los Angeles Maritime Institute (LAMI) to sail the San Pedro Bay on Mother&rsquo\;s Day and watch the sunset from the deck of a tall ship. You can sit back and relax or become part of the crew &ndash\; your choice - and don&rsquo\;t forget&nbsp\;a picnic!<br />\n<br />\nTickets are $60 for adults\, $30 for children 12 &amp\; under. Learn more and buy tickets at&nbsp\;<a href="https://lamitopsail.org/may-sunset-sail/">lamitopsail.org/may-sunset-sail</a>.<br />\n<br />\n<strong>Please note</strong>: The Sunset Sails board from the West Harbor Promenade at W. 6th St. and Harbor Blvd.\, San Pedro. Please see important parking details at</span></span><span style="font-family:arial\,helvetica\,sans-serif\; font-size:12px">&nbsp\;</span><a href="https://lamitopsail.org/may-sunset-sail/" style="font-family: arial\, helvetica\, sans-serif\; font-size: 12px\;">lamitopsail.org/may-sunset-sail</a><span style="font-family:arial\,helvetica\,sans-serif\; font-size:12px">.</span></p>\n
LOCATION:Boarding from the West Harbor Promenade at W. 6th St. and Harbor Blvd.\, San Pedro. Please see important parking details at lamitopsail.org/may-sunset-sail.
UID:e.2718.8748
SEQUENCE:3
DTSTAMP:20260422T200602Z
URL:https://www.sanpedrochamber.com/events/details/mother-s-day-sunset-sail-8748
END:VEVENT

END:VCALENDAR
