BEGIN:VCALENDAR
VERSION:2.0
PRODID:-//ChamberMaster//Event Calendar 2.0//EN
METHOD:PUBLISH
X-PUBLISHED-TTL:P3D
REFRESH-INTERVAL:P3D
CALSCALE:GREGORIAN
BEGIN:VEVENT
DTSTART:20240518T200000Z
DTEND:20240518T213000Z
X-MICROSOFT-CDO-ALLDAYEVENT:FALSE
SUMMARY:May's Family Art Workshop: Plant 'n' Dip
DESCRIPTION:Jump into spring and support local wildlife with this fun\, hands-on workshop! Guests will learn how to hydro-dip their own planters with water and aerosol paint. We will then put our planter projects to work by filling them with California Native Plant seeds! California Native Plants are an essential part of local ecosystems and AGCC can't wait to help you add a little color to your neighborhood.\n\n\n\nDo not hesitate to claim your spot for this project for the whole family!\n\n\n\nClaim your seats on Eventbrite: https://www.eventbrite.com/e/mays-family-art-workshop-plant-n-dip-tickets-891988831607?aff=ebdsoporgprofile\n\n\n\nMeet your teacher in Building A's Gallery and we will walk over to our classroom in Building G.\n\n\n\nAll materials are provided. Children must be accompanied by an adult at all times. Pets are not allowed inside our galleries or classrooms.\n\n\n\nIf the event is sold out\, we encourage you to come in case there are no-shows!\n\n\n\n\n\n\n\nQuestions? Email marissa@angelsgateart.org\n\n\n\nPara m s informaci n consulte marissa@angelsgateart.org\n\n\n\n\n\n\n\nIt's Family Art Workshop with Angels Gate Cultural Center! Angels Gate offers monthly free art workshops. All are welcome. Art activities for kids and adults\, ages 1 to 101! Children must be accompanied by an adult at all times. Pets are not allowed inside our galleries or classrooms.\n\n\n\n Angels Gate Cultural Center ofrece talleres de arte mensuales para familias! Todos son bienvenidos. Actividades para ni os y adultos\, desde un 1 a o de edad hasta los 11! Infantes deben estar acompa ados por un adulto todo el tiempo. Prohibido el ingreso de mascotas.\n\n\n\n\n\nThis event is brought to you through generous support from the California Arts Council.
X-ALT-DESC;FMTTYPE=text/html:Jump into spring and support local wildlife with this fun\, hands-on workshop! Guests will learn how to hydro-dip their own planters with water and aerosol paint. We will then put our planter projects to work by filling them with California Native Plant seeds! California Native Plants are an essential part of local ecosystems and AGCC can&#39\;t wait to help you add a little color to your neighborhood.<br />\n<br />\nDo not hesitate to claim your spot for this project for the whole family!<br />\n<br />\nClaim your seats on Eventbrite: https://www.eventbrite.com/e/mays-family-art-workshop-plant-n-dip-tickets-891988831607?aff=ebdsoporgprofile<br />\n<br />\nMeet your teacher in Building A&#39\;s Gallery and we will walk over to our classroom in Building G.<br />\n<br />\nAll materials are provided. Children must be accompanied by an adult at all times. Pets are not allowed inside our galleries or classrooms.<br />\n<br />\nIf the event is sold out\, we encourage you to come in case there are no-shows!<br />\n<br />\n<br />\n<br />\nQuestions? Email marissa@angelsgateart.org<br />\n<br />\nPara m&aacute\;s informaci&oacute\;n consulte marissa@angelsgateart.org<br />\n<br />\n<br />\n<br />\nIt&#39\;s Family Art Workshop with Angels Gate Cultural Center! Angels Gate offers monthly free art workshops. All are welcome. Art activities for kids and adults\, ages 1 to 101! Children must be accompanied by an adult at all times. Pets are not allowed inside our galleries or classrooms.<br />\n<br />\n&iexcl\;Angels Gate Cultural Center ofrece talleres de arte mensuales para familias! Todos son bienvenidos. Actividades para ni&ntilde\;os y adultos\, desde un 1 a&ntilde\;o de edad hasta los 11! Infantes deben estar acompa&ntilde\;ados por un adulto todo el tiempo. Prohibido el ingreso de mascotas.<br />\n<br />\n<br />\n<em>This event is brought to you through generous support from the California Arts Council.</em>
LOCATION:Angels Gate Cultural Center 3601 S. Gaffey St San Pedro\, CA 90731 Meet in the Building A Gallery
UID:e.2718.8844
SEQUENCE:3
DTSTAMP:20260422T200959Z
URL:https://www.sanpedrochamber.com/events/details/may-s-family-art-workshop-plant-n-dip-8844
END:VEVENT

END:VCALENDAR
