BEGIN:VCALENDAR
VERSION:2.0
PRODID:-//ChamberMaster//Event Calendar 2.0//EN
METHOD:PUBLISH
X-PUBLISHED-TTL:P3D
REFRESH-INTERVAL:P3D
CALSCALE:GREGORIAN
BEGIN:VEVENT
DTSTART:20240120T023000Z
DTEND:20240120T060000Z
X-MICROSOFT-CDO-ALLDAYEVENT:FALSE
SUMMARY:Mariners Night at the Goose & Gridiron (every 1st and 3rd Friday)
DESCRIPTION:A lot of people don't know this\, but there LA Harbor Masonic Lodge has a pub room called the Goose & Gridiron. It also has a deck with a beautiful view of San Pedro and the LA Harbor. Start your weekend off on the right foot. Relax and socialize. Come when you want\, leave when you want! Dinner and adult beverages will be served in the Goose & Gridiron Room. Remember this is a casual event. Ladies\, Family & Friends are invited.  No charge - we only take donations. Suggested donation is $10.
X-ALT-DESC;FMTTYPE=text/html:<span style="color:rgb(0\, 0\, 0)\; font-family:helvetica\; font-size:12px">A lot of people don&#39\;t know this\, but there LA Harbor Masonic Lodge has a pub room called the Goose &amp\; Gridiron. It also has a deck with a beautiful view of San Pedro and the LA Harbor. Start your weekend off on the right foot. Relax and socialize. Come when you want\, leave when you want! Dinner and adult beverages will be served in the Goose &amp\; Gridiron Room. Remember this is a casual event. Ladies\, Family &amp\; Friends are invited. &nbsp\;No charge - we only take donations. Suggested donation is $10.</span>
LOCATION:Los Angeles Harbor Masonic Lodge 1640 W 9th Street San Pedro\, CA 90732
UID:e.2718.6716
SEQUENCE:3
DTSTAMP:20260422T223402Z
URL:https://www.sanpedrochamber.com/events/details/mariners-night-at-the-goose-gridiron-every-1st-and-3rd-friday-01-19-2024-6716
END:VEVENT

END:VCALENDAR
