BEGIN:VCALENDAR
VERSION:2.0
PRODID:-//ChamberMaster//Event Calendar 2.0//EN
METHOD:PUBLISH
X-PUBLISHED-TTL:P3D
REFRESH-INTERVAL:P3D
CALSCALE:GREGORIAN
BEGIN:VEVENT
DTSTART:20240428T030000Z
DTEND:20240428T053000Z
X-MICROSOFT-CDO-ALLDAYEVENT:FALSE
SUMMARY:Mara Kaye
DESCRIPTION:Referred to by Jazz Lives as "one of New York's great gifts to the world\," blues and jazz vocalist Mara Kaye is "like some lost pocket of the blues that had never been explored in the old days\, all wrapped up in a ball of 21st-century Brooklyn-bred attitude." For over a decade\, Kaye has traveled internationally and throughout the US\, singing beloved songs of the past with a deep passion and respect for its original storytellers. With musical gravitas\, she can deliver the blues of Billie Holiday and turn on a dime to express the joys of Bessie Smith. Mara's voice has been compared to "Louis Armstrong's trumpet at a rent party" by blues legend Jimmy Vivino and praised by The Wall Street Journal as proof that things are getting better. Her debut EP\, It Had to Be You\, recorded straight-to-tape by Bigtone Records\, was released in February of 2022 and features incomparable piano legend\, Carl Sonny Leyland.
X-ALT-DESC;FMTTYPE=text/html:Referred to by Jazz Lives as &ldquo\;one of New York&rsquo\;s great gifts to the world\,&rdquo\; blues and jazz vocalist Mara Kaye is &ldquo\;like some lost pocket of the blues that had never been explored in the old days\, all wrapped up in a ball of 21st-century Brooklyn-bred attitude.&rdquo\; For over a decade\, Kaye has traveled internationally and throughout the US\, singing beloved songs of the past with a deep passion and respect for its original storytellers. With musical gravitas\, she can deliver the blues of Billie Holiday and turn on a dime to express the joys of Bessie Smith. Mara&rsquo\;s voice has been compared to &ldquo\;Louis Armstrong&rsquo\;s trumpet at a rent party&rdquo\; by blues legend Jimmy Vivino and praised by The Wall Street Journal as proof that things are getting better. Her debut EP\, It Had to Be You\, recorded straight-to-tape by Bigtone Records\, was released in February of 2022 and features incomparable piano legend\, Carl Sonny Leyland.
LOCATION:The Grand Annex Music Hall 434 W. 6th Street San Pedro CA 90731
UID:e.2718.8604
SEQUENCE:3
DTSTAMP:20260422T130000Z
URL:https://www.sanpedrochamber.com/events/details/mara-kaye-04-27-2024-8604
END:VEVENT

END:VCALENDAR
