BEGIN:VCALENDAR
VERSION:2.0
PRODID:-//ChamberMaster//Event Calendar 2.0//EN
METHOD:PUBLISH
X-PUBLISHED-TTL:P3D
REFRESH-INTERVAL:P3D
CALSCALE:GREGORIAN
BEGIN:VEVENT
DTSTART:20240331T030000Z
DTEND:20240421T050000Z
X-MICROSOFT-CDO-ALLDAYEVENT:FALSE
SUMMARY:Last Call Theatre Presents Pirates Wanted
DESCRIPTION:Have you ever wanted to be a pirate? Join Captain Souvanna and her crew on a wild and wacky immersive pirate adventure in Pirates Wanted. Pirates Wanted performs aboard the American Pride\, a beautiful 130-ft\, 3-masted tall ship operated by the Los Angeles Maritime Institute. Audience members will be able to explore this majestic vessel as if they were actual pirates\, all while docked near the Port of Los Angeles\, right by the Los Angeles Maritime Museum. Currents of danger\, betrayal\, magic\, music\, adventure\, and love will rock the core of this crew\, and it's up to the audience to decide whether they'll sink or swim as they navigate these unfamiliar waters.
X-ALT-DESC;FMTTYPE=text/html:Have you ever wanted to be a pirate? Join Captain Souvanna and her crew on a wild and wacky immersive pirate adventure in Pirates Wanted. Pirates Wanted performs aboard the American Pride\, a beautiful 130-ft\, 3-masted tall ship operated by the Los Angeles Maritime Institute. Audience members will be able to explore this majestic vessel as if they were actual pirates\, all while docked near the Port of Los Angeles\, right by the Los Angeles Maritime Museum. Currents of danger\, betrayal\, magic\, music\, adventure\, and love will rock the core of this crew\, and it&#39\;s up to the audience to decide whether they&#39\;ll sink or swim as they navigate these unfamiliar waters.
LOCATION:The American Pride docked at the West Harbor Long Dock To the right of the Los Angeles Maritime Museum 84 Foot of 6th St Berthing\, San Pedro\, CA 9073
UID:e.2718.8730
SEQUENCE:3
DTSTAMP:20260422T125555Z
URL:https://www.sanpedrochamber.com/events/details/last-call-theatre-presents-pirates-wanted-8730
END:VEVENT

END:VCALENDAR
