BEGIN:VCALENDAR
VERSION:2.0
PRODID:-//ChamberMaster//Event Calendar 2.0//EN
METHOD:PUBLISH
X-PUBLISHED-TTL:P3D
REFRESH-INTERVAL:P3D
CALSCALE:GREGORIAN
BEGIN:VEVENT
DTSTART:20240526T000000Z
DTEND:20240526T050000Z
X-MICROSOFT-CDO-ALLDAYEVENT:FALSE
SUMMARY:LA Fleet Week After Party at West Harbor
DESCRIPTION:Join us for the official LA Fleet Week After Party on the West Harbor Promenade over Memorial Day Weekend on May 25th and 26th from 5pm to 10pm. This 21+ event features a beer garden\, food trucks\, a live DJ and fun!
X-ALT-DESC;FMTTYPE=text/html:Join us for the official LA Fleet Week After Party on the West Harbor Promenade over Memorial Day Weekend on May 25th and 26th from 5pm to 10pm. This 21+ event features a beer garden\, food trucks\, a live DJ and fun!
LOCATION:West Harbor Promenade\, 6th and Harbor
UID:e.2718.8852
SEQUENCE:3
DTSTAMP:20260422T181031Z
URL:https://www.sanpedrochamber.com/events/details/la-fleet-week-after-party-at-west-harbor-8852
END:VEVENT

END:VCALENDAR
