BEGIN:VCALENDAR
VERSION:2.0
PRODID:-//ChamberMaster//Event Calendar 2.0//EN
METHOD:PUBLISH
X-PUBLISHED-TTL:P3D
REFRESH-INTERVAL:P3D
CALSCALE:GREGORIAN
BEGIN:VEVENT
DTSTART:20240317T030000Z
DTEND:20240317T053000Z
X-MICROSOFT-CDO-ALLDAYEVENT:FALSE
SUMMARY:John Kraus & The Goers St. Patrick’s Day Show
DESCRIPTION:Captain John and the band deliver vintage sea shanties and nautical tunes with Celtic-punk and pirate-rock swagger. Kraus leads this merry crew of powerhouse musicians after years spent as a sea captain and growing up in a musical household. His pioneering band perfectly combines his love for music\, the sea\, and the legacy of seafaring storytelling. And\, just so we're all clear\, John Kraus really is a captain   on LA Maritime Institute's stunning Tall Ships! The Goers are: Tim Weed on violin\, David Dutton on the drums and jazz legend Bob Aul on fiddle and tuba. Paul Givant of Rose's Pawn Shop shows up frequently to play guitar and banjo.
X-ALT-DESC;FMTTYPE=text/html:Captain John and the band deliver vintage sea shanties and nautical tunes with Celtic-punk and pirate-rock swagger. Kraus leads this merry crew of powerhouse musicians after years spent as a sea captain and growing up in a musical household. His pioneering band perfectly combines his love for music\, the sea\, and the legacy of seafaring storytelling. And\, just so we&rsquo\;re all clear\, John Kraus really is a captain &ndash\; on LA Maritime Institute&rsquo\;s stunning Tall Ships! The Goers are: Tim Weed on violin\, David Dutton on the drums and jazz legend Bob Aul on fiddle and tuba. Paul Givant of Rose&rsquo\;s Pawn Shop shows up frequently to play guitar and banjo.
LOCATION:The Grand Annex Music Hall 434 W. 6th Street San Pedro CA 90731
UID:e.2718.8595
SEQUENCE:3
DTSTAMP:20260422T144817Z
URL:https://www.sanpedrochamber.com/events/details/john-kraus-the-goers-st-patrick-s-day-show-8595
END:VEVENT

END:VCALENDAR
