BEGIN:VCALENDAR
VERSION:2.0
PRODID:-//ChamberMaster//Event Calendar 2.0//EN
METHOD:PUBLISH
X-PUBLISHED-TTL:P3D
REFRESH-INTERVAL:P3D
CALSCALE:GREGORIAN
BEGIN:VEVENT
DTSTART:20240128T040000Z
DTEND:20240128T063000Z
X-MICROSOFT-CDO-ALLDAYEVENT:FALSE
SUMMARY:John Jorgenson Quintet
DESCRIPTION:John Jorgenson is a multi-instrumentalist and master guitarist who is recognized across rock\, jazz and Americana genres. As the leader of the John Jorgenson Quintet (JJQ) his musicality and virtuosity absolutely shine. The group's style is inspired by the dynamic string-driven swing created by Django Reinhardt in Paris in the 1930s\, yet Jorgenson's compositions draw additionally from Latin\, Romanian\, Greek\, classical\, and rock music. JJQ is the only American act to ever headline the prestigious Festival Django Reinhardt in France and has been featured at Django-celebrating festivals around the world. In addition to his jazz laurels\, Jorgenson toured for six years with Elton John\, won a country music Grammy\, and has collaborated with pretty much everyone from Barbra Streisand to Bonnie Raitt\, from Brad Paisley to Luciano Pavarotti. No Depression music magazine says\, "John Jorgenson has a rare kind of genius in that he's equally comfortable and capable of playing Buck Owens\, Beatles riffs\, or jazz leads "
X-ALT-DESC;FMTTYPE=text/html:John Jorgenson is a multi-instrumentalist and master guitarist who is recognized across rock\, jazz and Americana genres. As the leader of the John Jorgenson Quintet (JJQ) his musicality and virtuosity absolutely shine. The group&rsquo\;s style is inspired by the dynamic string-driven swing created by Django Reinhardt in Paris in the 1930s\, yet Jorgenson&rsquo\;s compositions draw additionally from Latin\, Romanian\, Greek\, classical\, and rock music. JJQ is the only American act to ever headline the prestigious Festival Django Reinhardt in France and has been featured at Django-celebrating festivals around the world. In addition to his jazz laurels\, Jorgenson toured for six years with Elton John\, won a country music Grammy\, and has collaborated with pretty much everyone from Barbra Streisand to Bonnie Raitt\, from Brad Paisley to Luciano Pavarotti. No Depression music magazine says\, &ldquo\;John Jorgenson has a rare kind of genius in that he&rsquo\;s equally comfortable and capable of playing Buck Owens\, Beatles riffs\, or jazz leads&hellip\;&rdquo\;
LOCATION:The Grand Annex Music Hall 434 W 6th Street San Pedro CA 90731
UID:e.2718.8591
SEQUENCE:3
DTSTAMP:20260422T223217Z
URL:https://www.sanpedrochamber.com/events/details/john-jorgenson-quintet-01-27-2024-8591
END:VEVENT

END:VCALENDAR
