BEGIN:VCALENDAR
VERSION:2.0
PRODID:-//ChamberMaster//Event Calendar 2.0//EN
METHOD:PUBLISH
X-PUBLISHED-TTL:P3D
REFRESH-INTERVAL:P3D
CALSCALE:GREGORIAN
BEGIN:VEVENT
DTSTART:20240601T030000Z
DTEND:20240601T053000Z
X-MICROSOFT-CDO-ALLDAYEVENT:FALSE
SUMMARY:Jimmy’s Buffet
DESCRIPTION:Calling all Parrot Heads! Celebrate the music and vibes of   you guessed it!   Jimmy Buffett. Experience a truly authentic Buffett sound with 12 of California's best musicians. The Grand Annex will transform into a tropical beach party as Jimmy's Buffet honors their captain's timeless legacy. Complete with congas and steel drums\, the band will serve up a full catalog of hits\, as well as a few surprises. Look forward to a Trop-Rock sensation!
X-ALT-DESC;FMTTYPE=text/html:Calling all Parrot Heads! Celebrate the music and vibes of &ndash\; you guessed it! &ndash\; Jimmy Buffett. Experience a truly authentic Buffett sound with 12 of California&rsquo\;s best musicians. The Grand Annex will transform into a tropical beach party as Jimmy&rsquo\;s Buffet honors their captain&rsquo\;s timeless legacy. Complete with congas and steel drums\, the band will serve up a full catalog of hits\, as well as a few surprises. Look forward to a Trop-Rock sensation!
LOCATION:The Grand Annex Music Hall 434 W. 6th Street San Pedro CA 90731
UID:e.2718.8606
SEQUENCE:3
DTSTAMP:20260422T180721Z
URL:https://www.sanpedrochamber.com/events/details/jimmy-s-buffet-8606
END:VEVENT

END:VCALENDAR
