BEGIN:VCALENDAR
VERSION:2.0
PRODID:-//ChamberMaster//Event Calendar 2.0//EN
METHOD:PUBLISH
X-PUBLISHED-TTL:P3D
REFRESH-INTERVAL:P3D
CALSCALE:GREGORIAN
BEGIN:VEVENT
DTSTART:20231202T230000Z
DTEND:20231204T040000Z
X-MICROSOFT-CDO-ALLDAYEVENT:FALSE
SUMMARY:Holiday Pop-Up Market presented by West Harbor with San Pedro Makers Market
DESCRIPTION:Just in time for holiday shopping\, this holiday pop-up market features gifts and works of artists\, craftspeople and artisans\, including local entrepreneurs and small indie businesses\, along with food trucks\, music\, entertainment\, and opportunities to take personal photos with Santa.
X-ALT-DESC;FMTTYPE=text/html:Just in time for holiday shopping\, this holiday pop-up market features gifts and works of artists\, craftspeople and artisans\, including local entrepreneurs and small indie businesses\, along with food trucks\, music\, entertainment\, and opportunities to take personal photos with Santa.
LOCATION:West Harbor Promenade and San Pedro Town Square on the LA Waterfront\, Sixth St. and Harbor Blvd.\, San Pedro. 1200 Nagoya Way\, San Pedro.
UID:e.2718.8548
SEQUENCE:3
DTSTAMP:20260423T022537Z
URL:https://www.sanpedrochamber.com/events/details/holiday-pop-up-market-presented-by-west-harbor-with-san-pedro-makers-market-8548
END:VEVENT

END:VCALENDAR
