BEGIN:VCALENDAR
VERSION:2.0
PRODID:-//ChamberMaster//Event Calendar 2.0//EN
METHOD:PUBLISH
X-PUBLISHED-TTL:P3D
REFRESH-INTERVAL:P3D
CALSCALE:GREGORIAN
BEGIN:VEVENT
DTSTART:20260502T000000Z
DTEND:20260502T020000Z
X-MICROSOFT-CDO-ALLDAYEVENT:FALSE
SUMMARY:Happy Hour on the Waterfront at Vicky's Doghouse
DESCRIPTION:Join us for a waterfront happy hour aboard the Battleship IOWA. Enjoy a discounted menu\, cocktails\, music\, games\, and a waterfront view you won't find anywhere else in San Pedro. Whether you're stopping by after work or meeting friends\, this is your spot to unwind by the water.\n\nFridays from 5 7 PM on the Battleship IOWA. Come for the view\, stay for the experience.
X-ALT-DESC;FMTTYPE=text/html:<div>\n<div>\n<div>\n<div>\n<div>\n<div>\n<div>\n<p><span style="font-size:14px">Join us for a waterfront happy hour aboard the Battleship IOWA. Enjoy a discounted menu\, cocktails\, music\, games\, and a waterfront view you won&rsquo\;t find anywhere else in San Pedro. Whether you&rsquo\;re stopping by after work or meeting friends\, this is your spot to unwind by the water.</span></p>\n\n<p><span style="font-size:14px">Fridays from 5&ndash\;7 PM on the Battleship IOWA. Come for the view\, stay for the experience.</span></p>\n</div>\n</div>\n</div>\n</div>\n</div>\n</div>\n</div>\n
LOCATION:Vicky's Doghouse is located on the fantail of Battleship IOWA in San Pedro California and accessible for free. Parking is free for the first hour and $2 for each additional hour.
UID:e.2718.11269
SEQUENCE:3
DTSTAMP:20260421T120337Z
URL:https://www.sanpedrochamber.com/events/details/happy-hour-on-the-waterfront-at-vicky-s-doghouse-05-01-2026-11269
END:VEVENT

END:VCALENDAR
