BEGIN:VCALENDAR
VERSION:2.0
PRODID:-//ChamberMaster//Event Calendar 2.0//EN
METHOD:PUBLISH
X-PUBLISHED-TTL:P3D
REFRESH-INTERVAL:P3D
CALSCALE:GREGORIAN
BEGIN:VEVENT
DTSTART:20240420T173000Z
DTEND:20240420T173000Z
X-MICROSOFT-CDO-ALLDAYEVENT:FALSE
SUMMARY:Guided Family Nature Walk at White Point Nature Preserve with the Palos Verdes Peninsula Land Conservancy
DESCRIPTION:Naturalists will guide you along a trail to discover a unique variety of wildlife in their coastal sage scrub habitat with amazing views across to the ocean. Meet in front of the Nature Center and come inside to explore after the hike. Preserve parking available at the end of the street in a gravel lot at 1600 West Paseo Del Mar\, San Pedro. Sign up at: pvplc.org/calendar
X-ALT-DESC;FMTTYPE=text/html:Naturalists will guide you along a trail to discover a unique variety of wildlife in their coastal sage scrub habitat with amazing views across to the ocean. Meet in front of the Nature Center and come inside to explore after the hike. Preserve parking available at the end of the street in a gravel lot at 1600 West Paseo Del Mar\, San Pedro. Sign up at: pvplc.org/calendar
LOCATION:White Point Nature Preserve 1600 W. Paseo del Mar San Pedro\, CA 90731
UID:e.2718.8737
SEQUENCE:3
DTSTAMP:20260422T090358Z
URL:https://www.sanpedrochamber.com/events/details/guided-family-nature-walk-at-white-point-nature-preserve-with-the-palos-verdes-peninsula-land-conservancy-04-20-2024-8737
END:VEVENT

END:VCALENDAR
