BEGIN:VCALENDAR
VERSION:2.0
PRODID:-//ChamberMaster//Event Calendar 2.0//EN
METHOD:PUBLISH
X-PUBLISHED-TTL:P3D
REFRESH-INTERVAL:P3D
CALSCALE:GREGORIAN
BEGIN:VEVENT
DTSTART:20231118T230000Z
DTEND:20231119T013000Z
X-MICROSOFT-CDO-ALLDAYEVENT:FALSE
SUMMARY:Give Thanks Sail
DESCRIPTION:Gather friends and family to share in a great afternoon on the water\, and Give Thanks on one of our Tall Ships on Saturday\, November 18. You can sit back and relax or become part of the crew   your choice! Don't forget to bring a picnic to enjoy too (no glass bottles please). \n\n\n\nTickets are $60 each for adults\, $30 each for children 12 and under. Learn more and get your tickets today - for any of this year's sails - at lamitopsail.org/events.
X-ALT-DESC;FMTTYPE=text/html:Gather friends and family to share in a great afternoon on the water\, and Give Thanks on one of our Tall Ships on Saturday\, November 18. You can sit back and relax or become part of the crew &ndash\; your choice! Don&rsquo\;t forget to bring a picnic to enjoy too (no glass bottles please).&nbsp\;<br />\n<br />\nTickets are $60 each for adults\, $30 each for children 12 and under. Learn more and get your tickets today - for any of this year&rsquo\;s sails - at <a href="https://lamitopsail.org/events/">lamitopsail.org/events</a>.
LOCATION:Berth 78 (behind the Maritime Museum)\, San Pedro\, CA 90731
UID:e.2718.8508
SEQUENCE:3
DTSTAMP:20260423T020345Z
URL:https://www.sanpedrochamber.com/events/details/give-thanks-sail-8508
END:VEVENT

END:VCALENDAR
