BEGIN:VCALENDAR
VERSION:2.0
PRODID:-//ChamberMaster//Event Calendar 2.0//EN
METHOD:PUBLISH
X-PUBLISHED-TTL:P3D
REFRESH-INTERVAL:P3D
CALSCALE:GREGORIAN
BEGIN:VEVENT
DTSTART:20240512T000000Z
DTEND:20240512T050000Z
X-MICROSOFT-CDO-ALLDAYEVENT:FALSE
SUMMARY:Gathering for the Grand Gala Gidget’s Glamorous Beach Party
DESCRIPTION:The 2024 Gathering for the Grand Gala will be held Saturday\, May 11\, 2024\, at 5 PM at the Palos Verdes Golf Club located at 3301 V a Campesina in Palos Verdes Estates. The guest of honor is Yolanda Valle Perry\, a San Pedro native who grew up loving the Warner Grand Theatre and Cabrillo Beach. She was an early supporter and advocate for Grand Vision\, garnering the community's support to revitalize the Warner Grand Theatre and re-energize the downtown community through the arts. The theme\, "GIDGET'S Glamorous Beach Party\," reflects Yolanda's love of the beach with a nod to the 1959 Sandra Dee film. Dress up in your best beach-inspired gala-wear\, celebrate the Warner Grand's long-awaited $15 million renovation\, enjoy tiki drinks\, and party to retro surfer music!
X-ALT-DESC;FMTTYPE=text/html:The 2024 Gathering for the Grand Gala will be held Saturday\, May 11\, 2024\, at 5 PM at the Palos Verdes Golf Club located at 3301 V&iacute\;a Campesina in Palos Verdes Estates. The guest of honor is Yolanda Valle Perry\, a San Pedro native who grew up loving the Warner Grand Theatre and Cabrillo Beach. She was an early supporter and advocate for Grand Vision\, garnering the community&rsquo\;s support to revitalize the Warner Grand Theatre and re-energize the downtown community through the arts. The theme\, &ldquo\;GIDGET&rsquo\;S Glamorous Beach Party\,&rdquo\; reflects Yolanda&rsquo\;s love of the beach with a nod to the 1959 Sandra Dee film. Dress up in your best beach-inspired gala-wear\, celebrate the Warner Grand&rsquo\;s long-awaited $15 million renovation\, enjoy tiki drinks\, and party to retro surfer music!
LOCATION:Palos Verdes Golf Club 3301 Via Campesina Palos Verdes Estates CA 90274
UID:e.2718.8613
SEQUENCE:3
DTSTAMP:20260422T201831Z
URL:https://www.sanpedrochamber.com/events/details/gathering-for-the-grand-gala-gidget-s-glamorous-beach-party-8613
END:VEVENT

END:VCALENDAR
