BEGIN:VCALENDAR
VERSION:2.0
PRODID:-//ChamberMaster//Event Calendar 2.0//EN
METHOD:PUBLISH
X-PUBLISHED-TTL:P3D
REFRESH-INTERVAL:P3D
CALSCALE:GREGORIAN
BEGIN:VEVENT
DTSTART:20240526T160000Z
DTEND:20240527T033000Z
X-MICROSOFT-CDO-ALLDAYEVENT:FALSE
SUMMARY:Festival of Sail at LA Fleet Week presented by LAMI
DESCRIPTION:Join the Los Angeles Maritime Institute (LAMI) for four days of tall ship sailing fun during our annual Festival of Sail at LA Fleet Week - Friday\, May 24 through Monday\, May 27.\n\nFeaturing: \n\n\n	\n	Four sail each day\n	\n	\n	Free deck tours \n	\n	\n	Hands-on activities for kids and adults \n	\n\n\nSpend Memorial Day Weekend with us on the LA Waterfront in San Pedro!\n\n\nDaily Event Schedule:\n\n\n	Noon - 2:00 pm: Explore the Coast/Explora la Costa Bilingual STEM Educational Sails sponsored by Marathon Petroleum\n\n\nTickets: Adults $20\, Seniors $10\, Youth (12 & under)\, Active Duty and Veterans are free\, but registration is required.\n\n \n\n\n	2:00 - 4:00 pm: TallShip Waterfront Sail\n\n\nTickets: Adults $60\, Seniors $40\, Youth (12 & under) $25\, Active Duty/Veterans free\; registration required\n\n\n	4:30 - 7:00 pm: TallShip Cannon Battles\n\n\nTickets: Adults $75\, Seniors $50\, Youth (12 & under) $2\, Active Duty/Veterans free\; registration required\n\n\n	6:00 - 8:30 pm: TallShip Sunset Sail\n\n\nTickets: Adults $75\, Seniors $50\, Youth (12 & under) $25\, Active Duty/Veterans free\; registration required\n\n\n	9:00 am - 5:00 pm: TallShip Village Activities and Deck Tours\n\n\nFree activities for kids and adults\, including Sea Scout maritime demos\, kid-friendly STEAM activities\, historic reenactors\, unique photo-ops\, knot tying\, crafts and more!\n\n\n	Plus\, on Thursday\, May 23\, 5:30 - 7:30 pm\, a special VIP Sail - Fleet Week Ship Tour with a view from the water!\n\n\nTickets: $150\n\n\nPLEASE NOTE: Registration is required for FREE tickets. There are capacity limits for each vessel\, so this ensures your spot! Complimentary tickets for Veterans and Active-Duty personnel made possible by the Sherry Griswold Foundation.\n\n \n\nThe Festival of Sail at LA Fleet Week is generously sponsored by Marathon Petroleum Corporation and the Sherry Griswold Foundation. Additional sponsorship opportunities are available as well.\n\n \n\nLearn more and buy your sail tickets today at lamitopsail.org/festival!
X-ALT-DESC;FMTTYPE=text/html:<h4><span style="color:#1d3565">Join the Los Angeles Maritime Institute (LAMI) for four days of tall ship sailing fun during our annual </span><span style="color:#be2236"><strong>Festival of Sail at LA Fleet Week</strong></span><span style="color:#1d3565"> - Friday\, May 24 through Monday\, May 27.</span></h4>\n\n<h4><span style="color:rgb(34\, 34\, 34)">Featuring: </span></h4>\n\n<ul>\n	<li>\n	<h4><span style="color:rgb(34\, 34\, 34)">Four sail each day</span></h4>\n	</li>\n	<li>\n	<h4><span style="color:rgb(34\, 34\, 34)">Free deck tours </span></h4>\n	</li>\n	<li>\n	<h4><span style="color:rgb(34\, 34\, 34)">Hands-on activities for kids and adults </span></h4>\n	</li>\n</ul>\n\n<h4>Spend Memorial Day Weekend with us on the LA Waterfront in San Pedro!</h4>\n\n<hr />\n<p><strong>Daily Event Schedule:</strong></p>\n\n<ul>\n	<li><strong>Noon - 2:00 pm:&nbsp\;</strong>Explore the Coast/Explora la Costa Bilingual STEM Educational Sails sponsored by Marathon Petroleum</li>\n</ul>\n\n<div style="margin-left:40px"><em>Tickets: Adults $20\, Seniors $10\, Youth (12 &amp\; under)\, Active Duty and Veterans are free\, but registration is required.</em><br />\n&nbsp\;</div>\n\n<ul>\n	<li><strong>2:00 - 4:00 pm: </strong>TallShip Waterfront Sail</li>\n</ul>\n\n<p style="margin-left:40px"><em>Tickets: Adults $60\, Seniors $40\, Youth (12 &amp\; under) $25\, Active Duty/Veterans free\; registration required</em></p>\n\n<ul>\n	<li><strong>4:30 - 7:00 pm: </strong>TallShip Cannon Battles</li>\n</ul>\n\n<p style="margin-left:40px"><em>Tickets: Adults $75\, Seniors $50\, Youth (12 &amp\; under) $2\, Active Duty/Veterans free\; registration required</em></p>\n\n<ul>\n	<li><strong>6:00 - 8:30 pm: </strong>TallShip Sunset Sail</li>\n</ul>\n\n<p style="margin-left:40px"><em>Tickets: Adults $75\, Seniors $50\, Youth (12 &amp\; under) $25\, Active Duty/Veterans free\; registration required</em></p>\n\n<ul>\n	<li><strong>9:00 am - 5:00 pm:&nbsp\;</strong>TallShip Village Activities and Deck Tours</li>\n</ul>\n\n<p style="margin-left:40px">Free activities for kids and adults\, including Sea Scout maritime demos\, kid-friendly STEAM activities\, historic reenactors\, unique photo-ops\, knot tying\, crafts and more!</p>\n\n<ul>\n	<li>Plus\, on<strong>&nbsp\;Thursday\, May 23\, 5:30 - 7:30 pm</strong>\,<strong>&nbsp\;</strong>a special VIP Sail - Fleet Week Ship Tour with a view from the water!</li>\n</ul>\n\n<div style="margin-left:40px"><em>Tickets: $150</em></div>\n\n<hr />\n<p><strong>PLEASE NOTE: Registration is required for FREE tickets.</strong> There are capacity limits for each vessel\, so this ensures your spot! Complimentary tickets for Veterans and Active-Duty personnel made possible by the Sherry Griswold Foundation.<br />\n&nbsp\;<br />\nThe Festival of Sail at LA Fleet Week is generously sponsored by Marathon Petroleum Corporation and the Sherry Griswold Foundation. Additional sponsorship opportunities are available as well.<br />\n&nbsp\;<br />\nLearn more and buy your sail tickets today at <a href="https://lamitopsail.org/festival">lamitopsail.org/festival</a>!</p>\n
LOCATION:West Harbor Promenade at W 6th St and Harbor Blvd\, San Pedro\, CA 90731
UID:e.2718.8816
SEQUENCE:3
DTSTAMP:20260422T222112Z
URL:https://www.sanpedrochamber.com/events/details/festival-of-sail-at-la-fleet-week-presented-by-lami-05-26-2024-8816
END:VEVENT

END:VCALENDAR
