BEGIN:VCALENDAR
VERSION:2.0
PRODID:-//ChamberMaster//Event Calendar 2.0//EN
METHOD:PUBLISH
X-PUBLISHED-TTL:P3D
REFRESH-INTERVAL:P3D
CALSCALE:GREGORIAN
BEGIN:VEVENT
DTSTART:20240316T220000Z
DTEND:20240317T000000Z
X-MICROSOFT-CDO-ALLDAYEVENT:FALSE
SUMMARY:Explore the Coast/Explora la Costa
DESCRIPTION:Join us to Explore the Coast / Explora la Costa\n\nA Bilingual\, Educational and Exploration Sail Sponsored by Marathon Petroleum\nJoin the Los Angeles Maritime Institute (LAMI) aboard one of their tall ships to Explore the Coast/Explora la Costa on our monthly bilingual\, educational and exploration sail with hands-on scientific activities\, trained bilingual (Spanish) docents\, and engaging materials.\n\n\n\nFamilies and children are welcome to join us for the two-hour round-trip excursion out of the San Pedro Harbor\, but children must be 10 years or older\, and all minors must be accompanied by an adult.\n\n\n\nAdvanced registration is required\; $10 donation per person. \n\n\n\nNext Sail Date: \n\nSaturday\, March 16\, 3:00 - 5:00 p.m.\n\n\n\nLearn more and register: \n\nlamitopsail.org/etc\n\n\n\nQuestions or book by phone: \n\n310-833-6055 or info@lamitopsail.org
X-ALT-DESC;FMTTYPE=text/html:<h3 style="text-align:center"><strong>Join us to Explore the Coast / Explora la Costa<br />\n<em>A Bilingual\, Educational and Exploration Sail Sponsored by Marathon Petroleum</em></strong></h3>\nJoin the Los Angeles Maritime Institute (LAMI) aboard one of their tall ships to <strong><em>Explore the Coast/Explora la Costa </em>on our monthly bilingual\, educational and exploration sail </strong>with hands-on scientific activities\, trained bilingual (Spanish) docents\, and engaging materials.<br />\n<br />\nFamilies and children are welcome to join us for the two-hour round-trip excursion out of the San Pedro Harbor\, but<strong> children must be 10 years or older</strong>\, and all minors must be accompanied by an adult.\n\n<div style="text-align:center"><br />\n<strong><em>Advanced registration is required\; $10 donation per person.&nbsp\;</em></strong></div>\n\n<div style="text-align:center"><br />\n<strong>Next Sail Date: </strong><br />\nSaturday\, March 16\, 3:00 - 5:00 p.m.<br />\n<br />\n<strong>Learn more and register: </strong><br />\n<a href="https://lamitopsail.org/etc">lamitopsail.org/etc</a><br />\n<br />\n<strong>Questions or book by phone:&nbsp\;</strong><br />\n310-833-6055 or <a href="mailto:info@lamitopsail.org">info@lamitopsail.org</a></div>\n
LOCATION:San Pedro Harbor - W 6th St and Harbor Blvd\, San Pedro\, CA 90731
UID:e.2718.8728
SEQUENCE:3
DTSTAMP:20260422T125107Z
URL:https://www.sanpedrochamber.com/events/details/explore-the-coast-explora-la-costa-8728
END:VEVENT

END:VCALENDAR
