BEGIN:VCALENDAR
VERSION:2.0
PRODID:-//ChamberMaster//Event Calendar 2.0//EN
METHOD:PUBLISH
X-PUBLISHED-TTL:P3D
REFRESH-INTERVAL:P3D
CALSCALE:GREGORIAN
BEGIN:VEVENT
DTSTART:20240526T023000Z
DTEND:20240526T040000Z
X-MICROSOFT-CDO-ALLDAYEVENT:FALSE
SUMMARY:Eric Ching Trio at Collage
DESCRIPTION:Eric Ching plays straight ahead through modern jazz in the spirit of Kenny Garrett\, McCoy Tyner\, and Herbie Hancock. He yearns for the unexpected and his songs gradually unfold like a Tarantino movie. His original compositions serve to represent the feeling of "I'm not necessarily sure what I'm looking for\, but I'll know when I've found it." If you would like a preview\, check out his recent album\, In Search For A Brighter Hue\, wherever you get your music. www.ericchingdrums.com/music
X-ALT-DESC;FMTTYPE=text/html:Eric Ching plays straight ahead through modern jazz in the spirit of Kenny Garrett\, McCoy Tyner\, and Herbie Hancock. He yearns for the unexpected and his songs gradually unfold like a Tarantino movie. His original compositions serve to represent the feeling of &quot\;I&#39\;m not necessarily sure what I&#39\;m looking for\, but I&#39\;ll know when I&#39\;ve found it.&quot\; If you would like a preview\, check out his recent album\, In Search For A Brighter Hue\, wherever you get your music. www.ericchingdrums.com/music
LOCATION:Collage 731 S Pacific Ave\, San Pedro\, CA 90731
UID:e.2718.8764
SEQUENCE:3
DTSTAMP:20260422T201051Z
URL:https://www.sanpedrochamber.com/events/details/eric-ching-trio-at-collage-8764
END:VEVENT

END:VCALENDAR
