BEGIN:VCALENDAR
VERSION:2.0
PRODID:-//ChamberMaster//Event Calendar 2.0//EN
METHOD:PUBLISH
X-PUBLISHED-TTL:P3D
REFRESH-INTERVAL:P3D
CALSCALE:GREGORIAN
BEGIN:VEVENT
DTSTART:20240514T150000Z
DTEND:20240514T163000Z
X-MICROSOFT-CDO-ALLDAYEVENT:FALSE
SUMMARY:Economic Development & Policy Committee
DESCRIPTION:San Pedro Chamber of Commerce Economic Development & Policy Committee Meeting is only open to San Pedro Chamber members appointed by the San Pedro Chamber of Commerce Board of Directors.  \n\n\n\nTo present to an item the committee for consideration\, please call Elise Swanson at (310) 832 - 7272.\n\n\n\nTo bring an issue to committee\, click here:  Issue
X-ALT-DESC;FMTTYPE=text/html:San Pedro Chamber of Commerce Economic Development &amp\; Policy Committee&nbsp\;Meeting is only open to San Pedro Chamber members appointed by the San Pedro Chamber of Commerce Board of Directors.&nbsp\;&nbsp\;<br />\n<br />\nTo present to an item the committee for consideration\, please call Elise Swanson at (310) 832 - 7272.<br />\n<br />\nTo bring an issue to committee\, click here:&nbsp\; <a href="https://www.sanpedrochamber.com/form/view/14923">Issue</a>
LOCATION:390 W. 7th Street\, San Pedro 90731
UID:e.2718.8832
SEQUENCE:3
DTSTAMP:20260422T180803Z
URL:https://www.sanpedrochamber.com/events/details/economic-development-policy-committee-8832
END:VEVENT

END:VCALENDAR
