BEGIN:VCALENDAR
VERSION:2.0
PRODID:-//ChamberMaster//Event Calendar 2.0//EN
METHOD:PUBLISH
X-PUBLISHED-TTL:P3D
REFRESH-INTERVAL:P3D
CALSCALE:GREGORIAN
BEGIN:VEVENT
DTSTART:20240421T230000Z
DTEND:20240422T010000Z
X-MICROSOFT-CDO-ALLDAYEVENT:FALSE
SUMMARY:Earth Day Celebration: The San Pedro Faith Consortium
DESCRIPTION:Join us for two interfaith gatherings celebrating Earth Day: An Earth Day Fair on April 20\, 1 - 4 p.m. and an Earth Day Service on April 21\, 4 p.m. followed by a meal. All are welcome!
X-ALT-DESC;FMTTYPE=text/html:Join us for two interfaith gatherings celebrating Earth Day: An Earth Day Fair on April 20\, 1 - 4 p.m. and an Earth Day Service on April 21\, 4 p.m. followed by a meal. All are welcome!
LOCATION:The Garden Church\, 429 W. 6th Street\, San Pedro
UID:e.2718.8744
SEQUENCE:3
DTSTAMP:20260422T112522Z
URL:https://www.sanpedrochamber.com/events/details/earth-day-celebration-the-san-pedro-faith-consortium-8744
END:VEVENT

END:VCALENDAR
