BEGIN:VCALENDAR
VERSION:2.0
PRODID:-//ChamberMaster//Event Calendar 2.0//EN
METHOD:PUBLISH
X-PUBLISHED-TTL:P3D
REFRESH-INTERVAL:P3D
CALSCALE:GREGORIAN
BEGIN:VEVENT
DTSTART;VALUE=DATE:20190420
DTEND;VALUE=DATE:20190421
TRANSP:TRANSPARENT
X-MICROSOFT-CDO-ALLDAYEVENT:TRUE
SUMMARY:Earth Day at Palos Verdes Peninsula Land Conservancy
DESCRIPTION:Earth Day begins at the White Point Nature Preserve to beautify the Preserve with family activities including a Ranger-guided nature walk\, a dryad flute performance\, art activity and plant sale.  Later\, attend a screening of the Academy Award winning National Geographic film\, FREE SOLO at the Warner Grand. Tickets $10\; youth free. \n\nSaturday\, April 20\n\n9 AM  -  12 PM\n\nVolunteer & Family Activities\, White Point Nature Preserve\n\nRead more
X-ALT-DESC;FMTTYPE=text/html:<span style="color:#515764\;"><span style="font-family:helvetica\,sans-serif\;"><span style="font-size:10.5pt\;">Earth Day begins at the White Point Nature Preserve to beautify the Preserve with family activities including a Ranger-guided nature walk\, a dryad flute performance\, art activity and plant sale.&nbsp\; Later\, attend a screening of the Academy Award winning National Geographic film\, FREE SOLO at the Warner Grand. Tickets $10\; youth free.&nbsp\;</span></span></span><br />\n<strong><span style="color:#515764\;"><span style="font-family:helvetica\,sans-serif\;"><span style="font-size:10.5pt\;">Saturday\, April 20</span></span></span></strong><br />\n<span style="color:#515764\;"><span style="font-family:helvetica\,sans-serif\;"><span style="font-size:10.5pt\;">9 AM&nbsp\; -&nbsp\; 12 PM<br />\nVolunteer &amp\; Family Activities\, White Point Nature Preserve<br />\n<a data-type="url" href="https://t.e2ma.net/click/eq8ey/i5ex5m/20swpf"><span style="color:#A2071F\;">Read more&raquo\;</span></a></span></span></span>
LOCATION:1600 West Paseo del Mar San Pedro\, CA 90731
UID:e.2718.3641
SEQUENCE:3
DTSTAMP:20260424T080239Z
URL:https://www.sanpedrochamber.com/events/details/earth-day-at-palos-verdes-peninsula-land-conservancy-3641
END:VEVENT

END:VCALENDAR
