BEGIN:VCALENDAR
VERSION:2.0
PRODID:-//ChamberMaster//Event Calendar 2.0//EN
METHOD:PUBLISH
X-PUBLISHED-TTL:P3D
REFRESH-INTERVAL:P3D
CALSCALE:GREGORIAN
BEGIN:VEVENT
DTSTART:20240324T030000Z
DTEND:20240324T053000Z
X-MICROSOFT-CDO-ALLDAYEVENT:FALSE
SUMMARY:Dreamland w/ Kimberly Ford The Music of Joni Mitchell
DESCRIPTION:Jazz vocalist Kimberly Ford pays homage to one of the most iconic singer-songwriters of the Woodstock generation\, Joni Mitchell. Mitchell touched millions with her masterful hits across the folk\, jazz\, pop\, and rock genres. Ford's tribute does the music justice\, featuring an incredible seven-piece band that brings a new verve to Mitchell's music. Hear Help Me\, Both Sides Now\, Circle Game\, River and Woodstock plus deep cuts from Mitchell's diverse repertoire. "No singer on the West Coast is paying more scrupulous attention to Mitchell's wondrous songbook than Kimberly Ford\," writes Bay Area journalist Andy Gilbert\, noting her "bright and flexible soprano that effortlessly rises into Mitchell's upper range." Dreamland Band George Friedenthal   Piano & Vocals Tom Etchart   Bass Lee Rollag   Guitar\, Violin\, & Vocals Tom Buckner   Saxophone Sven Holcomb   Percussion & Vocals Dave Hunt   Drummer Pre-Concert Wine Tastings: Taste fine wines at select concerts. Free to Grand Vision members at the Friend\, Champion\, VIP Circle\, Arts Advocate\, and Performing Arts Patron level   up to two per household\, $16 per person for all others. Wine Tastings are led by professional sommelier\, Jean-Philippe Molinari. Concert tickets are required to participate. Members tasting tickets must be redeemed in advance.
X-ALT-DESC;FMTTYPE=text/html:Jazz vocalist Kimberly Ford pays homage to one of the most iconic singer-songwriters of the Woodstock generation\, Joni Mitchell. Mitchell touched millions with her masterful hits across the folk\, jazz\, pop\, and rock genres. Ford&rsquo\;s tribute does the music justice\, featuring an incredible seven-piece band that brings a new verve to Mitchell&rsquo\;s music. Hear Help Me\, Both Sides Now\, Circle Game\, River and Woodstock plus deep cuts from Mitchell&rsquo\;s diverse repertoire. &ldquo\;No singer on the West Coast is paying more scrupulous attention to Mitchell&rsquo\;s wondrous songbook than Kimberly Ford\,&rdquo\; writes Bay Area journalist Andy Gilbert\, noting her &ldquo\;bright and flexible soprano that effortlessly rises into Mitchell&rsquo\;s upper range.&rdquo\; Dreamland Band George Friedenthal &ndash\; Piano &amp\; Vocals Tom Etchart &ndash\; Bass Lee Rollag &ndash\; Guitar\, Violin\, &amp\; Vocals Tom Buckner &ndash\; Saxophone Sven Holcomb &ndash\; Percussion &amp\; Vocals Dave Hunt &ndash\; Drummer Pre-Concert Wine Tastings: Taste fine wines at select concerts. Free to Grand Vision members at the Friend\, Champion\, VIP Circle\, Arts Advocate\, and Performing Arts Patron level &ndash\; up to two per household\, $16 per person for all others. Wine Tastings are led by professional sommelier\, Jean-Philippe Molinari. Concert tickets are required to participate. Members tasting tickets must be redeemed in advance.
LOCATION:The Grand Annex Music Hall 434 W. 6th Street San Pedro CA 90731
UID:e.2718.8597
SEQUENCE:3
DTSTAMP:20260422T130703Z
URL:https://www.sanpedrochamber.com/events/details/dreamland-w-kimberly-ford-the-music-of-joni-mitchell-8597
END:VEVENT

END:VCALENDAR
