BEGIN:VCALENDAR
VERSION:2.0
PRODID:-//ChamberMaster//Event Calendar 2.0//EN
METHOD:PUBLISH
X-PUBLISHED-TTL:P3D
REFRESH-INTERVAL:P3D
CALSCALE:GREGORIAN
BEGIN:VEVENT
DTSTART:20240208T180000Z
DTEND:20240208T193000Z
X-MICROSOFT-CDO-ALLDAYEVENT:FALSE
SUMMARY:Docent Orientation - Virtual
DESCRIPTION:Help share your love of nature to educate students and the public. No experience required. 18 years +. Sign up at pvplc.volunteerhub.com
X-ALT-DESC;FMTTYPE=text/html:Help share your love of nature to educate students and the public. No experience required. 18 years +. Sign up at pvplc.volunteerhub.com
LOCATION:Virtual
UID:e.2718.8659
SEQUENCE:3
DTSTAMP:20260422T161952Z
URL:https://www.sanpedrochamber.com/events/details/docent-orientation-virtual-02-08-2024-8659
END:VEVENT

END:VCALENDAR
