BEGIN:VCALENDAR
VERSION:2.0
PRODID:-//ChamberMaster//Event Calendar 2.0//EN
METHOD:PUBLISH
X-PUBLISHED-TTL:P3D
REFRESH-INTERVAL:P3D
CALSCALE:GREGORIAN
BEGIN:VEVENT
DTSTART:20231004T150000Z
DTEND:20231004T180000Z
X-MICROSOFT-CDO-ALLDAYEVENT:FALSE
SUMMARY:Coffee with a Cop at Sirens Java & Tea
DESCRIPTION:Coffee with a Cop at Sirens Java & Tea
X-ALT-DESC;FMTTYPE=text/html:Coffee with a Cop at Sirens Java &amp\; Tea
LOCATION:402 W 7th Street San Pedro\, CA 90731
UID:e.2718.8474
SEQUENCE:3
DTSTAMP:20260423T035828Z
URL:https://www.sanpedrochamber.com/events/details/coffee-with-a-cop-at-sirens-java-tea-8474
END:VEVENT

END:VCALENDAR
