BEGIN:VCALENDAR
VERSION:2.0
PRODID:-//ChamberMaster//Event Calendar 2.0//EN
METHOD:PUBLISH
X-PUBLISHED-TTL:P3D
REFRESH-INTERVAL:P3D
CALSCALE:GREGORIAN
BEGIN:VEVENT
DTSTART:20260505T233000Z
DTEND:20260506T010000Z
X-MICROSOFT-CDO-ALLDAYEVENT:FALSE
SUMMARY:Cinco de Mayo Fiesta
DESCRIPTION:Happy hour dockside celebration and fundraiser for the Waterfront Arts District and LAMI\, onboard the Tall Ship\, American Pride. Folklorico Nadino Dancers\, Beer Tasting\, Mexican Appetizers and a Harbor View!
X-ALT-DESC;FMTTYPE=text/html:Happy hour dockside celebration and fundraiser for the Waterfront Arts District and LAMI\, onboard the Tall Ship\, American Pride. Folklorico Nadino Dancers\, Beer Tasting\, Mexican Appetizers and a Harbor View!
LOCATION:long dock at 6th and Harbor
UID:e.2718.11204
SEQUENCE:3
DTSTAMP:20260421T120208Z
URL:https://www.sanpedrochamber.com/events/details/cinco-de-mayo-fiesta-11204
END:VEVENT

END:VCALENDAR
